BEGIN:VCALENDAR
VERSION:2.0
PRODID:-//All American St. Louis Elks Lodge #9 - ECPv6.10.2//NONSGML v1.0//EN
CALSCALE:GREGORIAN
METHOD:PUBLISH
X-WR-CALNAME:All American St. Louis Elks Lodge #9
X-ORIGINAL-URL:https://old.elks9.org
X-WR-CALDESC:Events for All American St. Louis Elks Lodge #9
REFRESH-INTERVAL;VALUE=DURATION:PT1H
X-Robots-Tag:noindex
X-PUBLISHED-TTL:PT1H
BEGIN:VTIMEZONE
TZID:America/Chicago
BEGIN:DAYLIGHT
TZOFFSETFROM:-0600
TZOFFSETTO:-0500
TZNAME:CDT
DTSTART:20220313T080000
END:DAYLIGHT
BEGIN:STANDARD
TZOFFSETFROM:-0500
TZOFFSETTO:-0600
TZNAME:CST
DTSTART:20221106T070000
END:STANDARD
END:VTIMEZONE
BEGIN:VEVENT
DTSTART;TZID=America/Chicago:20220326T110000
DTEND;TZID=America/Chicago:20220326T130000
DTSTAMP:20260421T050753
CREATED:20220211T082658Z
LAST-MODIFIED:20220211T082658Z
UID:6928-1648292400-1648299600@old.elks9.org
SUMMARY:Pool Work Day
DESCRIPTION:
URL:https://old.elks9.org/event/pool-work-day-4/
END:VEVENT
BEGIN:VEVENT
DTSTART;TZID=America/Chicago:20220326T130000
DTEND;TZID=America/Chicago:20220326T230000
DTSTAMP:20260421T050753
CREATED:20220224T230235Z
LAST-MODIFIED:20220224T230235Z
UID:7131-1648299600-1648335600@old.elks9.org
SUMMARY:Ellisville #2664 Backstoppers Fundraiser
DESCRIPTION:
URL:https://old.elks9.org/event/ellisville-2664-backstoppers-fundraiser/
END:VEVENT
END:VCALENDAR