BEGIN:VCALENDAR
VERSION:2.0
PRODID:-//All American St. Louis Elks Lodge #9 - ECPv6.10.2//NONSGML v1.0//EN
CALSCALE:GREGORIAN
METHOD:PUBLISH
X-ORIGINAL-URL:https://old.elks9.org
X-WR-CALDESC:Events for All American St. Louis Elks Lodge #9
REFRESH-INTERVAL;VALUE=DURATION:PT1H
X-Robots-Tag:noindex
X-PUBLISHED-TTL:PT1H
BEGIN:VTIMEZONE
TZID:UTC
BEGIN:STANDARD
TZOFFSETFROM:+0000
TZOFFSETTO:+0000
TZNAME:UTC
DTSTART:20220101T000000
END:STANDARD
END:VTIMEZONE
BEGIN:VTIMEZONE
TZID:America/Chicago
BEGIN:DAYLIGHT
TZOFFSETFROM:-0600
TZOFFSETTO:-0500
TZNAME:CDT
DTSTART:20220313T080000
END:DAYLIGHT
BEGIN:STANDARD
TZOFFSETFROM:-0500
TZOFFSETTO:-0600
TZNAME:CST
DTSTART:20221106T070000
END:STANDARD
END:VTIMEZONE
BEGIN:VEVENT
DTSTART;VALUE=DATE:20220305
DTEND;VALUE=DATE:20220307
DTSTAMP:20260421T090031
CREATED:20220125T031755Z
LAST-MODIFIED:20220125T031755Z
UID:6834-1646438400-1646611199@old.elks9.org
SUMMARY:MEA Bowling - Weekend #2
DESCRIPTION:
URL:https://old.elks9.org/event/mea-bowling-weekend-2/
END:VEVENT
BEGIN:VEVENT
DTSTART;TZID=America/Chicago:20220306T110000
DTEND;TZID=America/Chicago:20220306T130000
DTSTAMP:20260421T090031
CREATED:20220204T222217Z
LAST-MODIFIED:20220204T222233Z
UID:6902-1646564400-1646571600@old.elks9.org
SUMMARY:Swim Team Sign Up
DESCRIPTION:
URL:https://old.elks9.org/event/swim-team-sign-up/
END:VEVENT
BEGIN:VEVENT
DTSTART;TZID=America/Chicago:20220306T110000
DTEND;TZID=America/Chicago:20220306T130000
DTSTAMP:20260421T090031
CREATED:20220211T082507Z
LAST-MODIFIED:20220211T082507Z
UID:6926-1646564400-1646571600@old.elks9.org
SUMMARY:Pool Work Day
DESCRIPTION:
URL:https://old.elks9.org/event/pool-work-day-3/
END:VEVENT
END:VCALENDAR