BEGIN:VCALENDAR
VERSION:2.0
PRODID:-//All American St. Louis Elks Lodge #9 - ECPv6.10.2//NONSGML v1.0//EN
CALSCALE:GREGORIAN
METHOD:PUBLISH
X-ORIGINAL-URL:https://old.elks9.org
X-WR-CALDESC:Events for All American St. Louis Elks Lodge #9
REFRESH-INTERVAL;VALUE=DURATION:PT1H
X-Robots-Tag:noindex
X-PUBLISHED-TTL:PT1H
BEGIN:VTIMEZONE
TZID:America/Chicago
BEGIN:DAYLIGHT
TZOFFSETFROM:-0600
TZOFFSETTO:-0500
TZNAME:CDT
DTSTART:20220313T080000
END:DAYLIGHT
BEGIN:STANDARD
TZOFFSETFROM:-0500
TZOFFSETTO:-0600
TZNAME:CST
DTSTART:20221106T070000
END:STANDARD
END:VTIMEZONE
BEGIN:VEVENT
DTSTART;TZID=America/Chicago:20220222T180000
DTEND;TZID=America/Chicago:20220222T190000
DTSTAMP:20260421T085150
CREATED:20210428T024547Z
LAST-MODIFIED:20220214T221456Z
UID:4935-1645552800-1645556400@old.elks9.org
SUMMARY:Public Relations
DESCRIPTION:
URL:https://old.elks9.org/event/public-relations-2/
END:VEVENT
BEGIN:VEVENT
DTSTART;TZID=America/Chicago:20220222T183000
DTEND;TZID=America/Chicago:20220222T193000
DTSTAMP:20260421T085150
CREATED:20220125T233202Z
LAST-MODIFIED:20220125T233202Z
UID:6853-1645554600-1645558200@old.elks9.org
SUMMARY:Youth + All American Quest meeting
DESCRIPTION:
URL:https://old.elks9.org/event/youth-all-american-quest-meeting/
END:VEVENT
BEGIN:VEVENT
DTSTART;TZID=America/Chicago:20220222T200000
DTEND;TZID=America/Chicago:20220222T200000
DTSTAMP:20260421T085150
CREATED:20220103T004122Z
LAST-MODIFIED:20220103T004511Z
UID:6708-1645560000-1645560000@old.elks9.org
SUMMARY:Queen of Hearts - Drawing @ 8:00pm
DESCRIPTION:
URL:https://old.elks9.org/event/queen-of-hearts-drawing-800pm-8/
END:VEVENT
END:VCALENDAR