BEGIN:VCALENDAR
VERSION:2.0
PRODID:-//All American St. Louis Elks Lodge #9 - ECPv6.10.2//NONSGML v1.0//EN
CALSCALE:GREGORIAN
METHOD:PUBLISH
X-WR-CALNAME:All American St. Louis Elks Lodge #9
X-ORIGINAL-URL:https://old.elks9.org
X-WR-CALDESC:Events for All American St. Louis Elks Lodge #9
REFRESH-INTERVAL;VALUE=DURATION:PT1H
X-Robots-Tag:noindex
X-PUBLISHED-TTL:PT1H
BEGIN:VTIMEZONE
TZID:America/Chicago
BEGIN:DAYLIGHT
TZOFFSETFROM:-0600
TZOFFSETTO:-0500
TZNAME:CDT
DTSTART:20220313T080000
END:DAYLIGHT
BEGIN:STANDARD
TZOFFSETFROM:-0500
TZOFFSETTO:-0600
TZNAME:CST
DTSTART:20221106T070000
END:STANDARD
END:VTIMEZONE
BEGIN:VEVENT
DTSTART;TZID=America/Chicago:20220218T100000
DTEND;TZID=America/Chicago:20220218T120000
DTSTAMP:20260421T085105
CREATED:20220218T051321Z
LAST-MODIFIED:20220218T064836Z
UID:7042-1645178400-1645185600@old.elks9.org
SUMMARY:Impact Grant  - Health Care Career Fair @ Lift for Life Academy
DESCRIPTION:
URL:https://old.elks9.org/event/impact-grant-health-care-career-fair-lift-for-life-academy/
END:VEVENT
BEGIN:VEVENT
DTSTART;TZID=America/Chicago:20220218T170000
DTEND;TZID=America/Chicago:20220218T190000
DTSTAMP:20260421T085105
CREATED:20220103T000310Z
LAST-MODIFIED:20220103T000310Z
UID:6689-1645203600-1645210800@old.elks9.org
SUMMARY:Happy Hour
DESCRIPTION:
URL:https://old.elks9.org/event/happy-hour-28/
END:VEVENT
BEGIN:VEVENT
DTSTART;TZID=America/Chicago:20220218T170000
DTEND;TZID=America/Chicago:20220218T210000
DTSTAMP:20260421T085105
CREATED:20211113T024806Z
LAST-MODIFIED:20220126T042010Z
UID:6409-1645203600-1645218000@old.elks9.org
SUMMARY:Hall of America Rental - Drennan (Cancelled)
DESCRIPTION:
URL:https://old.elks9.org/event/scouts-appreciation-night-tentative/
END:VEVENT
END:VCALENDAR