BEGIN:VCALENDAR
VERSION:2.0
PRODID:-//All American St. Louis Elks Lodge #9 - ECPv6.10.2//NONSGML v1.0//EN
CALSCALE:GREGORIAN
METHOD:PUBLISH
X-WR-CALNAME:All American St. Louis Elks Lodge #9
X-ORIGINAL-URL:https://old.elks9.org
X-WR-CALDESC:Events for All American St. Louis Elks Lodge #9
REFRESH-INTERVAL;VALUE=DURATION:PT1H
X-Robots-Tag:noindex
X-PUBLISHED-TTL:PT1H
BEGIN:VTIMEZONE
TZID:America/Chicago
BEGIN:DAYLIGHT
TZOFFSETFROM:-0600
TZOFFSETTO:-0500
TZNAME:CDT
DTSTART:20220313T080000
END:DAYLIGHT
BEGIN:STANDARD
TZOFFSETFROM:-0500
TZOFFSETTO:-0600
TZNAME:CST
DTSTART:20221106T070000
END:STANDARD
END:VTIMEZONE
BEGIN:VEVENT
DTSTART;TZID=America/Chicago:20220209T090000
DTEND;TZID=America/Chicago:20220209T220000
DTSTAMP:20260421T084140
CREATED:20220112T213503Z
LAST-MODIFIED:20220112T213503Z
UID:6738-1644397200-1644444000@old.elks9.org
SUMMARY:Impact Grant - Zoom Meeting
DESCRIPTION:
URL:https://old.elks9.org/event/impact-grant-zoom-meeting/
END:VEVENT
BEGIN:VEVENT
DTSTART;TZID=America/Chicago:20220209T150000
DTEND;TZID=America/Chicago:20220209T190000
DTSTAMP:20260421T084140
CREATED:20211210T041409Z
LAST-MODIFIED:20220126T042115Z
UID:6628-1644418800-1644433200@old.elks9.org
SUMMARY:Hall of America Rental - Cathy Roth-Johnson (Cancelled)
DESCRIPTION:
URL:https://old.elks9.org/event/hall-of-america-rental-tentative-cathy-roth-johnson-2/
END:VEVENT
BEGIN:VEVENT
DTSTART;TZID=America/Chicago:20220209T183000
DTEND;TZID=America/Chicago:20220209T193000
DTSTAMP:20260421T084140
CREATED:20220120T053655Z
LAST-MODIFIED:20220120T054054Z
UID:6801-1644431400-1644435000@old.elks9.org
SUMMARY:Pool Meeting
DESCRIPTION:
URL:https://old.elks9.org/event/pool-meeting-8/
END:VEVENT
END:VCALENDAR