BEGIN:VCALENDAR
VERSION:2.0
PRODID:-//All American St. Louis Elks Lodge #9 - ECPv6.10.2//NONSGML v1.0//EN
CALSCALE:GREGORIAN
METHOD:PUBLISH
X-WR-CALNAME:All American St. Louis Elks Lodge #9
X-ORIGINAL-URL:https://old.elks9.org
X-WR-CALDESC:Events for All American St. Louis Elks Lodge #9
REFRESH-INTERVAL;VALUE=DURATION:PT1H
X-Robots-Tag:noindex
X-PUBLISHED-TTL:PT1H
BEGIN:VTIMEZONE
TZID:America/Chicago
BEGIN:DAYLIGHT
TZOFFSETFROM:-0600
TZOFFSETTO:-0500
TZNAME:CDT
DTSTART:20210314T080000
END:DAYLIGHT
BEGIN:STANDARD
TZOFFSETFROM:-0500
TZOFFSETTO:-0600
TZNAME:CST
DTSTART:20211107T070000
END:STANDARD
END:VTIMEZONE
BEGIN:VEVENT
DTSTART;TZID=America/Chicago:20211221T110000
DTEND;TZID=America/Chicago:20211221T160000
DTSTAMP:20260421T113922
CREATED:20210805T205951Z
LAST-MODIFIED:20210805T205951Z
UID:5761-1640084400-1640102400@old.elks9.org
SUMMARY:Private Lodge Rental - Pipecoverers
DESCRIPTION:
URL:https://old.elks9.org/event/private-lodge-rental-pipecoverers/
END:VEVENT
BEGIN:VEVENT
DTSTART;TZID=America/Chicago:20211221T160000
DTEND;TZID=America/Chicago:20211221T180000
DTSTAMP:20260421T113922
CREATED:20211028T210139Z
LAST-MODIFIED:20211028T210139Z
UID:6235-1640102400-1640109600@old.elks9.org
SUMMARY:Coat Drive drop off
DESCRIPTION:
URL:https://old.elks9.org/event/coat-drive-drop-off-3/
END:VEVENT
BEGIN:VEVENT
DTSTART;TZID=America/Chicago:20211221T183000
DTEND;TZID=America/Chicago:20211221T193000
DTSTAMP:20260421T113922
CREATED:20210428T024723Z
LAST-MODIFIED:20210428T024723Z
UID:4940-1640111400-1640115000@old.elks9.org
SUMMARY:Public Relations
DESCRIPTION:
URL:https://old.elks9.org/event/public-relations-4/
END:VEVENT
END:VCALENDAR