BEGIN:VCALENDAR
VERSION:2.0
PRODID:-//All American St. Louis Elks Lodge #9 - ECPv6.10.2//NONSGML v1.0//EN
CALSCALE:GREGORIAN
METHOD:PUBLISH
X-WR-CALNAME:All American St. Louis Elks Lodge #9
X-ORIGINAL-URL:https://old.elks9.org
X-WR-CALDESC:Events for All American St. Louis Elks Lodge #9
REFRESH-INTERVAL;VALUE=DURATION:PT1H
X-Robots-Tag:noindex
X-PUBLISHED-TTL:PT1H
BEGIN:VTIMEZONE
TZID:America/Chicago
BEGIN:DAYLIGHT
TZOFFSETFROM:-0600
TZOFFSETTO:-0500
TZNAME:CDT
DTSTART:20210314T080000
END:DAYLIGHT
BEGIN:STANDARD
TZOFFSETFROM:-0500
TZOFFSETTO:-0600
TZNAME:CST
DTSTART:20211107T070000
END:STANDARD
END:VTIMEZONE
BEGIN:VEVENT
DTSTART;TZID=America/Chicago:20211211T110000
DTEND;TZID=America/Chicago:20211211T130000
DTSTAMP:20260421T113932
CREATED:20211101T210401Z
LAST-MODIFIED:20211101T210401Z
UID:6244-1639220400-1639227600@old.elks9.org
SUMMARY:Hoop Shoot @ St. Monica's
DESCRIPTION:
URL:https://old.elks9.org/event/hoop-shoot-st-monicas/
END:VEVENT
BEGIN:VEVENT
DTSTART;TZID=America/Chicago:20211211T120000
DTEND;TZID=America/Chicago:20211211T130000
DTSTAMP:20260421T113932
CREATED:20201125T230849Z
LAST-MODIFIED:20210920T235044Z
UID:2995-1639224000-1639227600@old.elks9.org
SUMMARY:Memorial Ritual
DESCRIPTION:
URL:https://old.elks9.org/event/memorial-ritual/
END:VEVENT
BEGIN:VEVENT
DTSTART;TZID=America/Chicago:20211211T130000
DTEND;TZID=America/Chicago:20211211T170000
DTSTAMP:20260421T113932
CREATED:20201125T230632Z
LAST-MODIFIED:20211125T023100Z
UID:2993-1639227600-1639242000@old.elks9.org
SUMMARY:Army V Navy (kickoff @ 2:00pm)
DESCRIPTION:
URL:https://old.elks9.org/event/army-v-navy/
END:VEVENT
END:VCALENDAR