BEGIN:VCALENDAR
VERSION:2.0
PRODID:-//All American St. Louis Elks Lodge #9 - ECPv6.10.2//NONSGML v1.0//EN
CALSCALE:GREGORIAN
METHOD:PUBLISH
X-ORIGINAL-URL:https://old.elks9.org
X-WR-CALDESC:Events for All American St. Louis Elks Lodge #9
REFRESH-INTERVAL;VALUE=DURATION:PT1H
X-Robots-Tag:noindex
X-PUBLISHED-TTL:PT1H
BEGIN:VTIMEZONE
TZID:America/Chicago
BEGIN:DAYLIGHT
TZOFFSETFROM:-0600
TZOFFSETTO:-0500
TZNAME:CDT
DTSTART:20210314T080000
END:DAYLIGHT
BEGIN:STANDARD
TZOFFSETFROM:-0500
TZOFFSETTO:-0600
TZNAME:CST
DTSTART:20211107T070000
END:STANDARD
END:VTIMEZONE
BEGIN:VEVENT
DTSTART;TZID=America/Chicago:20211209T110000
DTEND;TZID=America/Chicago:20211209T160000
DTSTAMP:20260421T114101
CREATED:20211121T232747Z
LAST-MODIFIED:20211121T232747Z
UID:6503-1639047600-1639065600@old.elks9.org
SUMMARY:Private Hall Rental - Pipecoverers
DESCRIPTION:
URL:https://old.elks9.org/event/private-hall-rental-pipecoverers-3/
END:VEVENT
BEGIN:VEVENT
DTSTART;TZID=America/Chicago:20211209T160000
DTEND;TZID=America/Chicago:20211209T210000
DTSTAMP:20260421T114101
CREATED:20210212T221914Z
LAST-MODIFIED:20211129T221929Z
UID:3602-1639065600-1639083600@old.elks9.org
SUMMARY:Rental - Hall of America (Cathy Roth-Johnson)
DESCRIPTION:
URL:https://old.elks9.org/event/rental-hall-of-america-cathy-roth-johnson/
END:VEVENT
BEGIN:VEVENT
DTSTART;TZID=America/Chicago:20211209T173000
DTEND;TZID=America/Chicago:20211209T180000
DTSTAMP:20260421T114101
CREATED:20211203T223233Z
LAST-MODIFIED:20211203T223233Z
UID:6611-1639071000-1639072800@old.elks9.org
SUMMARY:Mentors for College - webinar ( https://mentors4college.org/events/#upcoming-webinars )
DESCRIPTION:
URL:https://old.elks9.org/event/mentors-for-college-webinar-https-mentors4college-org-events-upcoming-webinars/
END:VEVENT
BEGIN:VEVENT
DTSTART;TZID=America/Chicago:20211209T190000
DTEND;TZID=America/Chicago:20211209T200000
DTSTAMP:20260421T114101
CREATED:20210322T215354Z
LAST-MODIFIED:20210322T215354Z
UID:4318-1639076400-1639080000@old.elks9.org
SUMMARY:Veterans Committee
DESCRIPTION:
URL:https://old.elks9.org/event/veterans-committee-15/
END:VEVENT
END:VCALENDAR