BEGIN:VCALENDAR
VERSION:2.0
PRODID:-//All American St. Louis Elks Lodge #9 - ECPv6.10.2//NONSGML v1.0//EN
CALSCALE:GREGORIAN
METHOD:PUBLISH
X-ORIGINAL-URL:https://old.elks9.org
X-WR-CALDESC:Events for All American St. Louis Elks Lodge #9
REFRESH-INTERVAL;VALUE=DURATION:PT1H
X-Robots-Tag:noindex
X-PUBLISHED-TTL:PT1H
BEGIN:VTIMEZONE
TZID:America/Chicago
BEGIN:DAYLIGHT
TZOFFSETFROM:-0600
TZOFFSETTO:-0500
TZNAME:CDT
DTSTART:20210314T080000
END:DAYLIGHT
BEGIN:STANDARD
TZOFFSETFROM:-0500
TZOFFSETTO:-0600
TZNAME:CST
DTSTART:20211107T070000
END:STANDARD
END:VTIMEZONE
BEGIN:VEVENT
DTSTART;TZID=America/Chicago:20211207T160000
DTEND;TZID=America/Chicago:20211207T180000
DTSTAMP:20260421T114017
CREATED:20211028T210006Z
LAST-MODIFIED:20211028T210006Z
UID:6231-1638892800-1638900000@old.elks9.org
SUMMARY:Coat Drive drop off
DESCRIPTION:
URL:https://old.elks9.org/event/coat-drive-drop-off/
END:VEVENT
BEGIN:VEVENT
DTSTART;TZID=America/Chicago:20211207T183000
DTEND;TZID=America/Chicago:20211207T193000
DTSTAMP:20260421T114017
CREATED:20211113T011314Z
LAST-MODIFIED:20211129T080710Z
UID:6395-1638901800-1638905400@old.elks9.org
SUMMARY:Youth Activates - Hoop Shoot 11/11 Specific
DESCRIPTION:
URL:https://old.elks9.org/event/youth-activates-school-roundtable-1-tentative/
END:VEVENT
BEGIN:VEVENT
DTSTART;TZID=America/Chicago:20211207T190000
DTEND;TZID=America/Chicago:20211207T200000
DTSTAMP:20260421T114017
CREATED:20211129T080211Z
LAST-MODIFIED:20211129T080449Z
UID:6558-1638903600-1638907200@old.elks9.org
SUMMARY:Speaker Series #4 - Patrick Ishmael
DESCRIPTION:
URL:https://old.elks9.org/event/speaker-series-4-patrick-ishmael/
END:VEVENT
END:VCALENDAR