BEGIN:VCALENDAR
VERSION:2.0
PRODID:-//All American St. Louis Elks Lodge #9 - ECPv6.10.2//NONSGML v1.0//EN
CALSCALE:GREGORIAN
METHOD:PUBLISH
X-ORIGINAL-URL:https://old.elks9.org
X-WR-CALDESC:Events for All American St. Louis Elks Lodge #9
REFRESH-INTERVAL;VALUE=DURATION:PT1H
X-Robots-Tag:noindex
X-PUBLISHED-TTL:PT1H
BEGIN:VTIMEZONE
TZID:America/Chicago
BEGIN:DAYLIGHT
TZOFFSETFROM:-0600
TZOFFSETTO:-0500
TZNAME:CDT
DTSTART:20210314T080000
END:DAYLIGHT
BEGIN:STANDARD
TZOFFSETFROM:-0500
TZOFFSETTO:-0600
TZNAME:CST
DTSTART:20211107T070000
END:STANDARD
END:VTIMEZONE
BEGIN:VEVENT
DTSTART;TZID=America/Chicago:20211206T110000
DTEND;TZID=America/Chicago:20211206T160000
DTSTAMP:20260421T114014
CREATED:20210805T210118Z
LAST-MODIFIED:20210805T210118Z
UID:5763-1638788400-1638806400@old.elks9.org
SUMMARY:Private Lodge Rental - Pipefitters
DESCRIPTION:
URL:https://old.elks9.org/event/private-lodge-rental-pipefitters/
END:VEVENT
BEGIN:VEVENT
DTSTART;TZID=America/Chicago:20211206T183000
DTEND;TZID=America/Chicago:20211206T193000
DTSTAMP:20260421T114014
CREATED:20210302T001455Z
LAST-MODIFIED:20210302T001455Z
UID:3887-1638815400-1638819000@old.elks9.org
SUMMARY:Lodge Meeting
DESCRIPTION:
URL:https://old.elks9.org/event/lodge-meeting-21/
END:VEVENT
END:VCALENDAR