BEGIN:VCALENDAR
VERSION:2.0
PRODID:-//All American St. Louis Elks Lodge #9 - ECPv6.10.2//NONSGML v1.0//EN
CALSCALE:GREGORIAN
METHOD:PUBLISH
X-ORIGINAL-URL:https://old.elks9.org
X-WR-CALDESC:Events for All American St. Louis Elks Lodge #9
REFRESH-INTERVAL;VALUE=DURATION:PT1H
X-Robots-Tag:noindex
X-PUBLISHED-TTL:PT1H
BEGIN:VTIMEZONE
TZID:America/Chicago
BEGIN:DAYLIGHT
TZOFFSETFROM:-0600
TZOFFSETTO:-0500
TZNAME:CDT
DTSTART:20210314T080000
END:DAYLIGHT
BEGIN:STANDARD
TZOFFSETFROM:-0500
TZOFFSETTO:-0600
TZNAME:CST
DTSTART:20211107T070000
END:STANDARD
END:VTIMEZONE
BEGIN:VEVENT
DTSTART;TZID=America/Chicago:20211106T090000
DTEND;TZID=America/Chicago:20211106T130000
DTSTAMP:20260421T131025
CREATED:20201125T233102Z
LAST-MODIFIED:20210830T234607Z
UID:3003-1636189200-1636203600@old.elks9.org
SUMMARY:Health Fair & Blood Drive
DESCRIPTION:
URL:https://old.elks9.org/event/health-fair-blood-drive/
END:VEVENT
BEGIN:VEVENT
DTSTART;TZID=America/Chicago:20211106T090000
DTEND;TZID=America/Chicago:20211106T140000
DTSTAMP:20260421T131025
CREATED:20210503T195817Z
LAST-MODIFIED:20210503T195817Z
UID:5048-1636189200-1636207200@old.elks9.org
SUMMARY:Veterans Parade (downtown)
DESCRIPTION:
URL:https://old.elks9.org/event/veterans-parade-downtown/
END:VEVENT
BEGIN:VEVENT
DTSTART;TZID=America/Chicago:20211106T110000
DTEND;TZID=America/Chicago:20211106T130000
DTSTAMP:20260421T131025
CREATED:20211001T000555Z
LAST-MODIFIED:20211001T000555Z
UID:6077-1636196400-1636203600@old.elks9.org
SUMMARY:Soccer Shoot - Day 2 (11am - 1pm) of 2
DESCRIPTION:
URL:https://old.elks9.org/event/soccer-shoot-day-2-11am-1pm-of-2/
END:VEVENT
BEGIN:VEVENT
DTSTART;TZID=America/Chicago:20211106T180000
DTEND;TZID=America/Chicago:20211106T180000
DTSTAMP:20260421T131025
CREATED:20210417T234135Z
LAST-MODIFIED:20210417T234135Z
UID:4745-1636221600-1636221600@old.elks9.org
SUMMARY:District Trivia Night at Lodge #9
DESCRIPTION:
URL:https://old.elks9.org/event/district-trivia-night-at-lodge-9/
END:VEVENT
END:VCALENDAR