BEGIN:VCALENDAR
VERSION:2.0
PRODID:-//All American St. Louis Elks Lodge #9 - ECPv6.10.2//NONSGML v1.0//EN
CALSCALE:GREGORIAN
METHOD:PUBLISH
X-WR-CALNAME:All American St. Louis Elks Lodge #9
X-ORIGINAL-URL:https://old.elks9.org
X-WR-CALDESC:Events for All American St. Louis Elks Lodge #9
REFRESH-INTERVAL;VALUE=DURATION:PT1H
X-Robots-Tag:noindex
X-PUBLISHED-TTL:PT1H
BEGIN:VTIMEZONE
TZID:America/Chicago
BEGIN:DAYLIGHT
TZOFFSETFROM:-0600
TZOFFSETTO:-0500
TZNAME:CDT
DTSTART:20210314T080000
END:DAYLIGHT
BEGIN:STANDARD
TZOFFSETFROM:-0500
TZOFFSETTO:-0600
TZNAME:CST
DTSTART:20211107T070000
END:STANDARD
END:VTIMEZONE
BEGIN:VEVENT
DTSTART;TZID=America/Chicago:20211104T180000
DTEND;TZID=America/Chicago:20211104T210000
DTSTAMP:20260421T130800
CREATED:20210804T232743Z
LAST-MODIFIED:20210818T033739Z
UID:5744-1636048800-1636059600@old.elks9.org
SUMMARY:Wine\, Dine\, & Shine (Volleyball Committee)
DESCRIPTION:
URL:https://old.elks9.org/event/wine-dine-shine-volleyball-committee-tentative/
END:VEVENT
END:VCALENDAR