BEGIN:VCALENDAR
VERSION:2.0
PRODID:-//All American St. Louis Elks Lodge #9 - ECPv6.10.2//NONSGML v1.0//EN
CALSCALE:GREGORIAN
METHOD:PUBLISH
X-ORIGINAL-URL:https://old.elks9.org
X-WR-CALDESC:Events for All American St. Louis Elks Lodge #9
REFRESH-INTERVAL;VALUE=DURATION:PT1H
X-Robots-Tag:noindex
X-PUBLISHED-TTL:PT1H
BEGIN:VTIMEZONE
TZID:America/Chicago
BEGIN:DAYLIGHT
TZOFFSETFROM:-0600
TZOFFSETTO:-0500
TZNAME:CDT
DTSTART:20210314T080000
END:DAYLIGHT
BEGIN:STANDARD
TZOFFSETFROM:-0500
TZOFFSETTO:-0600
TZNAME:CST
DTSTART:20211107T070000
END:STANDARD
END:VTIMEZONE
BEGIN:VEVENT
DTSTART;TZID=America/Chicago:20211010T100000
DTEND;TZID=America/Chicago:20211010T150000
DTSTAMP:20260421T144329
CREATED:20210817T004049Z
LAST-MODIFIED:20210923T190757Z
UID:5865-1633860000-1633878000@old.elks9.org
SUMMARY:Krumrey Family Farm Veterans Fundraiser
DESCRIPTION:
URL:https://old.elks9.org/event/krumrey-family-farm-veterans-fundraiser/
END:VEVENT
BEGIN:VEVENT
DTSTART;TZID=America/Chicago:20211010T180000
DTEND;TZID=America/Chicago:20211010T200000
DTSTAMP:20260421T144329
CREATED:20210913T211508Z
LAST-MODIFIED:20210913T211508Z
UID:5993-1633888800-1633896000@old.elks9.org
SUMMARY:9S Cigar Gathering
DESCRIPTION:
URL:https://old.elks9.org/event/9s-cigar-gathering-4/
END:VEVENT
END:VCALENDAR