BEGIN:VCALENDAR
VERSION:2.0
PRODID:-//All American St. Louis Elks Lodge #9 - ECPv6.10.2//NONSGML v1.0//EN
CALSCALE:GREGORIAN
METHOD:PUBLISH
X-WR-CALNAME:All American St. Louis Elks Lodge #9
X-ORIGINAL-URL:https://old.elks9.org
X-WR-CALDESC:Events for All American St. Louis Elks Lodge #9
REFRESH-INTERVAL;VALUE=DURATION:PT1H
X-Robots-Tag:noindex
X-PUBLISHED-TTL:PT1H
BEGIN:VTIMEZONE
TZID:UTC
BEGIN:STANDARD
TZOFFSETFROM:+0000
TZOFFSETTO:+0000
TZNAME:UTC
DTSTART:20210101T000000
END:STANDARD
END:VTIMEZONE
BEGIN:VEVENT
DTSTART;TZID=UTC:20210917T180000
DTEND;TZID=UTC:20210917T210000
DTSTAMP:20260421T161002
CREATED:20210804T232908Z
LAST-MODIFIED:20210804T232908Z
UID:5746-1631901600-1631912400@old.elks9.org
SUMMARY:Private Hall Rental - Dehner (pending)
DESCRIPTION:
URL:https://old.elks9.org/event/private-hall-rental-dehner-pending/
END:VEVENT
END:VCALENDAR