BEGIN:VCALENDAR
VERSION:2.0
PRODID:-//All American St. Louis Elks Lodge #9 - ECPv6.10.2//NONSGML v1.0//EN
CALSCALE:GREGORIAN
METHOD:PUBLISH
X-ORIGINAL-URL:https://old.elks9.org
X-WR-CALDESC:Events for All American St. Louis Elks Lodge #9
REFRESH-INTERVAL;VALUE=DURATION:PT1H
X-Robots-Tag:noindex
X-PUBLISHED-TTL:PT1H
BEGIN:VTIMEZONE
TZID:America/Chicago
BEGIN:DAYLIGHT
TZOFFSETFROM:-0600
TZOFFSETTO:-0500
TZNAME:CDT
DTSTART:20210314T080000
END:DAYLIGHT
BEGIN:STANDARD
TZOFFSETFROM:-0500
TZOFFSETTO:-0600
TZNAME:CST
DTSTART:20211107T070000
END:STANDARD
END:VTIMEZONE
BEGIN:VEVENT
DTSTART;VALUE=DATE:20210906
DTEND;VALUE=DATE:20210913
DTSTAMP:20260421T161326
CREATED:20210712T211536Z
LAST-MODIFIED:20210712T211536Z
UID:5566-1630886400-1631491199@old.elks9.org
SUMMARY:National Patriotism Week
DESCRIPTION:
URL:https://old.elks9.org/event/national-patriotism-week/
END:VEVENT
BEGIN:VEVENT
DTSTART;TZID=America/Chicago:20210911T120000
DTEND;TZID=America/Chicago:20210911T170000
DTSTAMP:20260421T161326
CREATED:20210628T214126Z
LAST-MODIFIED:20210628T214126Z
UID:5518-1631361600-1631379600@old.elks9.org
SUMMARY:Hall Rental - Celebration of Life
DESCRIPTION:
URL:https://old.elks9.org/event/hall-rental-celebration-of-life/
END:VEVENT
BEGIN:VEVENT
DTSTART;TZID=America/Chicago:20210911T200000
DTEND;TZID=America/Chicago:20210912T090000
DTSTAMP:20260421T161326
CREATED:20210719T213320Z
LAST-MODIFIED:20210719T214008Z
UID:5631-1631390400-1631437200@old.elks9.org
SUMMARY:Scouts Sleep over (tentative)
DESCRIPTION:
URL:https://old.elks9.org/event/scouts-sleep-over-tentative/
END:VEVENT
END:VCALENDAR