BEGIN:VCALENDAR
VERSION:2.0
PRODID:-//All American St. Louis Elks Lodge #9 - ECPv6.10.2//NONSGML v1.0//EN
CALSCALE:GREGORIAN
METHOD:PUBLISH
X-WR-CALNAME:All American St. Louis Elks Lodge #9
X-ORIGINAL-URL:https://old.elks9.org
X-WR-CALDESC:Events for All American St. Louis Elks Lodge #9
REFRESH-INTERVAL;VALUE=DURATION:PT1H
X-Robots-Tag:noindex
X-PUBLISHED-TTL:PT1H
BEGIN:VTIMEZONE
TZID:America/Chicago
BEGIN:DAYLIGHT
TZOFFSETFROM:-0600
TZOFFSETTO:-0500
TZNAME:CDT
DTSTART:20210314T080000
END:DAYLIGHT
BEGIN:STANDARD
TZOFFSETFROM:-0500
TZOFFSETTO:-0600
TZNAME:CST
DTSTART:20211107T070000
END:STANDARD
END:VTIMEZONE
BEGIN:VEVENT
DTSTART;TZID=America/Chicago:20210823T130000
DTEND;TZID=America/Chicago:20210823T160000
DTSTAMP:20260421T173706
CREATED:20210819T011459Z
LAST-MODIFIED:20210819T063843Z
UID:5886-1629723600-1629734400@old.elks9.org
SUMMARY:Private Hall Rental - Celebration of Life
DESCRIPTION:
URL:https://old.elks9.org/event/private-hall-rental-celebration-of-life/
END:VEVENT
BEGIN:VEVENT
DTSTART;TZID=America/Chicago:20210823T140000
DTEND;TZID=America/Chicago:20210823T140000
DTSTAMP:20260421T173706
CREATED:20210804T002629Z
LAST-MODIFIED:20210804T002629Z
UID:5738-1629727200-1629727200@old.elks9.org
SUMMARY:Reservation Cut off (2pm) - August 27th Steak Night
DESCRIPTION:
URL:https://old.elks9.org/event/reservation-cut-off-2pm-august-27th-steak-night/
END:VEVENT
BEGIN:VEVENT
DTSTART;TZID=America/Chicago:20210823T183000
DTEND;TZID=America/Chicago:20210823T193000
DTSTAMP:20260421T173706
CREATED:20210106T020900Z
LAST-MODIFIED:20210304T021121Z
UID:3168-1629743400-1629747000@old.elks9.org
SUMMARY:Lodge Meeting (only one in August) + Initiation Ritual
DESCRIPTION:
URL:https://old.elks9.org/event/lodge-meeting-only-one-in-august/
END:VEVENT
END:VCALENDAR