BEGIN:VCALENDAR
VERSION:2.0
PRODID:-//All American St. Louis Elks Lodge #9 - ECPv6.10.2//NONSGML v1.0//EN
CALSCALE:GREGORIAN
METHOD:PUBLISH
X-ORIGINAL-URL:https://old.elks9.org
X-WR-CALDESC:Events for All American St. Louis Elks Lodge #9
REFRESH-INTERVAL;VALUE=DURATION:PT1H
X-Robots-Tag:noindex
X-PUBLISHED-TTL:PT1H
BEGIN:VTIMEZONE
TZID:America/Chicago
BEGIN:DAYLIGHT
TZOFFSETFROM:-0600
TZOFFSETTO:-0500
TZNAME:CDT
DTSTART:20210314T080000
END:DAYLIGHT
BEGIN:STANDARD
TZOFFSETFROM:-0500
TZOFFSETTO:-0600
TZNAME:CST
DTSTART:20211107T070000
END:STANDARD
END:VTIMEZONE
BEGIN:VEVENT
DTSTART;TZID=America/Chicago:20210810T180000
DTEND;TZID=America/Chicago:20210810T190000
DTSTAMP:20260421T173728
CREATED:20210518T185729Z
LAST-MODIFIED:20210802T211300Z
UID:5187-1628618400-1628622000@old.elks9.org
SUMMARY:Site Strategy
DESCRIPTION:
URL:https://old.elks9.org/event/site-strategy-12/
END:VEVENT
BEGIN:VEVENT
DTSTART;TZID=America/Chicago:20210810T183000
DTEND;TZID=America/Chicago:20210810T193000
DTSTAMP:20260421T173728
CREATED:20210226T221529Z
LAST-MODIFIED:20210226T221529Z
UID:3843-1628620200-1628623800@old.elks9.org
SUMMARY:Pool Committee
DESCRIPTION:
URL:https://old.elks9.org/event/pool-committee-8/
END:VEVENT
END:VCALENDAR