BEGIN:VCALENDAR
VERSION:2.0
PRODID:-//All American St. Louis Elks Lodge #9 - ECPv6.10.2//NONSGML v1.0//EN
CALSCALE:GREGORIAN
METHOD:PUBLISH
X-WR-CALNAME:All American St. Louis Elks Lodge #9
X-ORIGINAL-URL:https://old.elks9.org
X-WR-CALDESC:Events for All American St. Louis Elks Lodge #9
REFRESH-INTERVAL;VALUE=DURATION:PT1H
X-Robots-Tag:noindex
X-PUBLISHED-TTL:PT1H
BEGIN:VTIMEZONE
TZID:America/Chicago
BEGIN:DAYLIGHT
TZOFFSETFROM:-0600
TZOFFSETTO:-0500
TZNAME:CDT
DTSTART:20210314T080000
END:DAYLIGHT
BEGIN:STANDARD
TZOFFSETFROM:-0500
TZOFFSETTO:-0600
TZNAME:CST
DTSTART:20211107T070000
END:STANDARD
END:VTIMEZONE
BEGIN:VEVENT
DTSTART;VALUE=DATE:20210807
DTEND;VALUE=DATE:20210809
DTSTAMP:20260421T173710
CREATED:20200918T204336Z
LAST-MODIFIED:20210513T195813Z
UID:2618-1628294400-1628467199@old.elks9.org
SUMMARY:MEA Golf Tournament
DESCRIPTION:# working on getting the flyer # \n\n\n\n\n\nPevely Farms Golf Club\n\n\n\n\n\n\n\n\n\n\n\nHosted by Eureka Pacific 2641. Entre fee $260 2-man team entre fee includes flight prize money\, skins\, mulligans\, and player gifts.\n\n\n\n\n\n\nChairman – Tom Pouche – 816-456-3939 = mobile\, tpouchegolfchairman@gmail.com
URL:https://old.elks9.org/event/mea-golf-tournament/
END:VEVENT
BEGIN:VEVENT
DTSTART;TZID=America/Chicago:20210807T120000
DTEND;TZID=America/Chicago:20210807T150000
DTSTAMP:20260421T173710
CREATED:20210413T013342Z
LAST-MODIFIED:20210513T192321Z
UID:4672-1628337600-1628348400@old.elks9.org
SUMMARY:District 4780 Picnic @ Affton #2635
DESCRIPTION:
URL:https://old.elks9.org/event/district-4780-picnic/
END:VEVENT
BEGIN:VEVENT
DTSTART;TZID=America/Chicago:20210807T150000
DTEND;TZID=America/Chicago:20210807T200000
DTSTAMP:20260421T173710
CREATED:20210710T020132Z
LAST-MODIFIED:20210803T002416Z
UID:5552-1628348400-1628366400@old.elks9.org
SUMMARY:Private Hall Rental - Bourneuf
DESCRIPTION:
URL:https://old.elks9.org/event/private-hall-rental-griegge/
END:VEVENT
END:VCALENDAR