BEGIN:VCALENDAR
VERSION:2.0
PRODID:-//All American St. Louis Elks Lodge #9 - ECPv6.10.2//NONSGML v1.0//EN
CALSCALE:GREGORIAN
METHOD:PUBLISH
X-WR-CALNAME:All American St. Louis Elks Lodge #9
X-ORIGINAL-URL:https://old.elks9.org
X-WR-CALDESC:Events for All American St. Louis Elks Lodge #9
REFRESH-INTERVAL;VALUE=DURATION:PT1H
X-Robots-Tag:noindex
X-PUBLISHED-TTL:PT1H
BEGIN:VTIMEZONE
TZID:UTC
BEGIN:STANDARD
TZOFFSETFROM:+0000
TZOFFSETTO:+0000
TZNAME:UTC
DTSTART:20210101T000000
END:STANDARD
END:VTIMEZONE
BEGIN:VTIMEZONE
TZID:America/Chicago
BEGIN:DAYLIGHT
TZOFFSETFROM:-0600
TZOFFSETTO:-0500
TZNAME:CDT
DTSTART:20210314T080000
END:DAYLIGHT
BEGIN:STANDARD
TZOFFSETFROM:-0500
TZOFFSETTO:-0600
TZNAME:CST
DTSTART:20211107T070000
END:STANDARD
END:VTIMEZONE
BEGIN:VEVENT
DTSTART;TZID=UTC:20210802T093000
DTEND;TZID=UTC:20210806T114500
DTSTAMP:20260421T173706
CREATED:20210316T223140Z
LAST-MODIFIED:20210511T014809Z
UID:4239-1627896600-1628250300@old.elks9.org
SUMMARY:Ramot Amoona Swim Camp - Week 7
DESCRIPTION:
URL:https://old.elks9.org/event/ramot-amoona-swim-camp-week-7/
END:VEVENT
BEGIN:VEVENT
DTSTART;TZID=America/Chicago:20210805T180000
DTEND;TZID=America/Chicago:20210805T220000
DTSTAMP:20260421T173706
CREATED:20210628T214245Z
LAST-MODIFIED:20210710T011051Z
UID:5520-1628186400-1628200800@old.elks9.org
SUMMARY:East Patio Rental - Fraley
DESCRIPTION:
URL:https://old.elks9.org/event/east-patio-rental-fraley-pending-floor-approval/
END:VEVENT
BEGIN:VEVENT
DTSTART;TZID=America/Chicago:20210805T183000
DTEND;TZID=America/Chicago:20210805T193000
DTSTAMP:20260421T173706
CREATED:20210723T074412Z
LAST-MODIFIED:20210723T074505Z
UID:5671-1628188200-1628191800@old.elks9.org
SUMMARY:Golf Committee
DESCRIPTION:
URL:https://old.elks9.org/event/golf-committee-11/
END:VEVENT
BEGIN:VEVENT
DTSTART;TZID=America/Chicago:20210805T190000
DTEND;TZID=America/Chicago:20210805T200000
DTSTAMP:20260421T173706
CREATED:20210322T214842Z
LAST-MODIFIED:20210713T002134Z
UID:4310-1628190000-1628193600@old.elks9.org
SUMMARY:Veterans Committee
DESCRIPTION:
URL:https://old.elks9.org/event/veterans-committee-11/
END:VEVENT
END:VCALENDAR