BEGIN:VCALENDAR
VERSION:2.0
PRODID:-//All American St. Louis Elks Lodge #9 - ECPv6.10.2//NONSGML v1.0//EN
CALSCALE:GREGORIAN
METHOD:PUBLISH
X-ORIGINAL-URL:https://old.elks9.org
X-WR-CALDESC:Events for All American St. Louis Elks Lodge #9
REFRESH-INTERVAL;VALUE=DURATION:PT1H
X-Robots-Tag:noindex
X-PUBLISHED-TTL:PT1H
BEGIN:VTIMEZONE
TZID:UTC
BEGIN:STANDARD
TZOFFSETFROM:+0000
TZOFFSETTO:+0000
TZNAME:UTC
DTSTART:20210101T000000
END:STANDARD
END:VTIMEZONE
BEGIN:VTIMEZONE
TZID:America/Chicago
BEGIN:DAYLIGHT
TZOFFSETFROM:-0600
TZOFFSETTO:-0500
TZNAME:CDT
DTSTART:20210314T080000
END:DAYLIGHT
BEGIN:STANDARD
TZOFFSETFROM:-0500
TZOFFSETTO:-0600
TZNAME:CST
DTSTART:20211107T070000
END:STANDARD
END:VTIMEZONE
BEGIN:VEVENT
DTSTART;TZID=UTC:20210802T093000
DTEND;TZID=UTC:20210806T114500
DTSTAMP:20260421T173729
CREATED:20210316T223140Z
LAST-MODIFIED:20210511T014809Z
UID:4239-1627896600-1628250300@old.elks9.org
SUMMARY:Ramot Amoona Swim Camp - Week 7
DESCRIPTION:
URL:https://old.elks9.org/event/ramot-amoona-swim-camp-week-7/
END:VEVENT
BEGIN:VEVENT
DTSTART;TZID=America/Chicago:20210804T183000
DTEND;TZID=America/Chicago:20210804T193000
DTSTAMP:20260421T173729
CREATED:20210407T013656Z
LAST-MODIFIED:20210407T013656Z
UID:4442-1628101800-1628105400@old.elks9.org
SUMMARY:House Committee
DESCRIPTION:
URL:https://old.elks9.org/event/house-committee-13/
END:VEVENT
BEGIN:VEVENT
DTSTART;TZID=America/Chicago:20210804T190000
DTEND;TZID=America/Chicago:20210804T200000
DTSTAMP:20260421T173729
CREATED:20210322T200152Z
LAST-MODIFIED:20210406T003438Z
UID:4294-1628103600-1628107200@old.elks9.org
SUMMARY:Lodge Auxiliary
DESCRIPTION:
URL:https://old.elks9.org/event/ladies-auxiliary-14/
END:VEVENT
END:VCALENDAR