BEGIN:VCALENDAR
VERSION:2.0
PRODID:-//All American St. Louis Elks Lodge #9 - ECPv6.10.2//NONSGML v1.0//EN
CALSCALE:GREGORIAN
METHOD:PUBLISH
X-WR-CALNAME:All American St. Louis Elks Lodge #9
X-ORIGINAL-URL:https://old.elks9.org
X-WR-CALDESC:Events for All American St. Louis Elks Lodge #9
REFRESH-INTERVAL;VALUE=DURATION:PT1H
X-Robots-Tag:noindex
X-PUBLISHED-TTL:PT1H
BEGIN:VTIMEZONE
TZID:UTC
BEGIN:STANDARD
TZOFFSETFROM:+0000
TZOFFSETTO:+0000
TZNAME:UTC
DTSTART:20210101T000000
END:STANDARD
END:VTIMEZONE
BEGIN:VTIMEZONE
TZID:America/Chicago
BEGIN:DAYLIGHT
TZOFFSETFROM:-0600
TZOFFSETTO:-0500
TZNAME:CDT
DTSTART:20210314T080000
END:DAYLIGHT
BEGIN:STANDARD
TZOFFSETFROM:-0500
TZOFFSETTO:-0600
TZNAME:CST
DTSTART:20211107T070000
END:STANDARD
END:VTIMEZONE
BEGIN:VEVENT
DTSTART;TZID=UTC:20210802T093000
DTEND;TZID=UTC:20210806T114500
DTSTAMP:20260421T173703
CREATED:20210316T223140Z
LAST-MODIFIED:20210511T014809Z
UID:4239-1627896600-1628250300@old.elks9.org
SUMMARY:Ramot Amoona Swim Camp - Week 7
DESCRIPTION:
URL:https://old.elks9.org/event/ramot-amoona-swim-camp-week-7/
END:VEVENT
BEGIN:VEVENT
DTSTART;TZID=America/Chicago:20210803T150000
DTEND;TZID=America/Chicago:20210803T190000
DTSTAMP:20260421T173703
CREATED:20210805T173836Z
LAST-MODIFIED:20210805T174124Z
UID:5751-1628002800-1628017200@old.elks9.org
SUMMARY:Pool Cabana Build - day 1
DESCRIPTION:
URL:https://old.elks9.org/event/pool-cabana-build-day-1/
END:VEVENT
BEGIN:VEVENT
DTSTART;TZID=America/Chicago:20210803T190000
DTEND;TZID=America/Chicago:20210803T200000
DTSTAMP:20260421T173703
CREATED:20210803T233708Z
LAST-MODIFIED:20210803T233708Z
UID:5734-1628017200-1628020800@old.elks9.org
SUMMARY:Grands Committee
DESCRIPTION:
URL:https://old.elks9.org/event/grands-committee/
END:VEVENT
END:VCALENDAR