BEGIN:VCALENDAR
VERSION:2.0
PRODID:-//All American St. Louis Elks Lodge #9 - ECPv6.10.2//NONSGML v1.0//EN
CALSCALE:GREGORIAN
METHOD:PUBLISH
X-ORIGINAL-URL:https://old.elks9.org
X-WR-CALDESC:Events for All American St. Louis Elks Lodge #9
REFRESH-INTERVAL;VALUE=DURATION:PT1H
X-Robots-Tag:noindex
X-PUBLISHED-TTL:PT1H
BEGIN:VTIMEZONE
TZID:America/Chicago
BEGIN:DAYLIGHT
TZOFFSETFROM:-0600
TZOFFSETTO:-0500
TZNAME:CDT
DTSTART:20210314T080000
END:DAYLIGHT
BEGIN:STANDARD
TZOFFSETFROM:-0500
TZOFFSETTO:-0600
TZNAME:CST
DTSTART:20211107T070000
END:STANDARD
END:VTIMEZONE
BEGIN:VEVENT
DTSTART;VALUE=DATE:20210801
DTEND;VALUE=DATE:20210802
DTSTAMP:20260421T173729
CREATED:20210430T162216Z
LAST-MODIFIED:20210430T162216Z
UID:5008-1627776000-1627862399@old.elks9.org
SUMMARY:Food Drive - Month 3 (Items TBA)
DESCRIPTION:
URL:https://old.elks9.org/event/food-drive-month-3-items-tba/
END:VEVENT
BEGIN:VEVENT
DTSTART;TZID=America/Chicago:20210801T130000
DTEND;TZID=America/Chicago:20210801T160000
DTSTAMP:20260421T173729
CREATED:20210803T233610Z
LAST-MODIFIED:20210803T233610Z
UID:5732-1627822800-1627833600@old.elks9.org
SUMMARY:Basement Clean up - VBall Comm
DESCRIPTION:
URL:https://old.elks9.org/event/basement-clean-up-vball-comm/
END:VEVENT
END:VCALENDAR