BEGIN:VCALENDAR
VERSION:2.0
PRODID:-//All American St. Louis Elks Lodge #9 - ECPv6.10.2//NONSGML v1.0//EN
CALSCALE:GREGORIAN
METHOD:PUBLISH
X-ORIGINAL-URL:https://old.elks9.org
X-WR-CALDESC:Events for All American St. Louis Elks Lodge #9
REFRESH-INTERVAL;VALUE=DURATION:PT1H
X-Robots-Tag:noindex
X-PUBLISHED-TTL:PT1H
BEGIN:VTIMEZONE
TZID:America/Chicago
BEGIN:DAYLIGHT
TZOFFSETFROM:-0600
TZOFFSETTO:-0500
TZNAME:CDT
DTSTART:20210314T080000
END:DAYLIGHT
BEGIN:STANDARD
TZOFFSETFROM:-0500
TZOFFSETTO:-0600
TZNAME:CST
DTSTART:20211107T070000
END:STANDARD
END:VTIMEZONE
BEGIN:VEVENT
DTSTART;TZID=America/Chicago:20210719T093000
DTEND;TZID=America/Chicago:20210723T114500
DTSTAMP:20260421T185918
CREATED:20210316T223421Z
LAST-MODIFIED:20210511T014622Z
UID:4244-1626687000-1627040700@old.elks9.org
SUMMARY:Ramot Amoona Swim Camp - Week 5
DESCRIPTION:
URL:https://old.elks9.org/event/ramot-amoona-swim-camp-week-5/
END:VEVENT
BEGIN:VEVENT
DTSTART;TZID=America/Chicago:20210723T170000
DTEND;TZID=America/Chicago:20210723T190000
DTSTAMP:20260421T185918
CREATED:20210622T210519Z
LAST-MODIFIED:20210622T210519Z
UID:5476-1627059600-1627066800@old.elks9.org
SUMMARY:Happy Hour
DESCRIPTION:
URL:https://old.elks9.org/event/happy-hour-15/
END:VEVENT
BEGIN:VEVENT
DTSTART;TZID=America/Chicago:20210723T170000
DTEND;TZID=America/Chicago:20210723T230000
DTSTAMP:20260421T185918
CREATED:20210610T192923Z
LAST-MODIFIED:20210610T192923Z
UID:5362-1627059600-1627081200@old.elks9.org
SUMMARY:Member Rental - Hall & Patio - Stirrat
DESCRIPTION:
URL:https://old.elks9.org/event/member-rental-hall-patio-stirrat/
END:VEVENT
END:VCALENDAR