BEGIN:VCALENDAR
VERSION:2.0
PRODID:-//All American St. Louis Elks Lodge #9 - ECPv6.10.2//NONSGML v1.0//EN
CALSCALE:GREGORIAN
METHOD:PUBLISH
X-ORIGINAL-URL:https://old.elks9.org
X-WR-CALDESC:Events for All American St. Louis Elks Lodge #9
REFRESH-INTERVAL;VALUE=DURATION:PT1H
X-Robots-Tag:noindex
X-PUBLISHED-TTL:PT1H
BEGIN:VTIMEZONE
TZID:America/Chicago
BEGIN:DAYLIGHT
TZOFFSETFROM:-0600
TZOFFSETTO:-0500
TZNAME:CDT
DTSTART:20210314T080000
END:DAYLIGHT
BEGIN:STANDARD
TZOFFSETFROM:-0500
TZOFFSETTO:-0600
TZNAME:CST
DTSTART:20211107T070000
END:STANDARD
END:VTIMEZONE
BEGIN:VTIMEZONE
TZID:UTC
BEGIN:STANDARD
TZOFFSETFROM:+0000
TZOFFSETTO:+0000
TZNAME:UTC
DTSTART:20210101T000000
END:STANDARD
END:VTIMEZONE
BEGIN:VEVENT
DTSTART;TZID=America/Chicago:20210719T093000
DTEND;TZID=America/Chicago:20210723T114500
DTSTAMP:20260421T202357
CREATED:20210316T223421Z
LAST-MODIFIED:20210511T014622Z
UID:4244-1626687000-1627040700@old.elks9.org
SUMMARY:Ramot Amoona Swim Camp - Week 5
DESCRIPTION:
URL:https://old.elks9.org/event/ramot-amoona-swim-camp-week-5/
END:VEVENT
BEGIN:VEVENT
DTSTART;TZID=America/Chicago:20210721T140000
DTEND;TZID=America/Chicago:20210721T163000
DTSTAMP:20260421T202357
CREATED:20210710T011841Z
LAST-MODIFIED:20210710T011841Z
UID:5545-1626876000-1626885000@old.elks9.org
SUMMARY:East Patio Rental
DESCRIPTION:
URL:https://old.elks9.org/event/east-patio-rental/
END:VEVENT
BEGIN:VEVENT
DTSTART;TZID=America/Chicago:20210721T180000
DTEND;TZID=America/Chicago:20210721T200000
DTSTAMP:20260421T202357
CREATED:20210514T234627Z
LAST-MODIFIED:20210720T190807Z
UID:5169-1626890400-1626897600@old.elks9.org
SUMMARY:Elks #9 History Group
DESCRIPTION:
URL:https://old.elks9.org/event/p-e-r-meeting-2/
END:VEVENT
BEGIN:VEVENT
DTSTART;TZID=UTC:20210721T190000
DTEND;TZID=UTC:20210721T210000
DTSTAMP:20260421T202357
CREATED:20210521T201245Z
LAST-MODIFIED:20210521T201436Z
UID:5230-1626894000-1626901200@old.elks9.org
SUMMARY:Ladies Bunco - Summertime Edition
DESCRIPTION:
URL:https://old.elks9.org/event/ladies-bunco-summertime-edition/
END:VEVENT
END:VCALENDAR