BEGIN:VCALENDAR
VERSION:2.0
PRODID:-//All American St. Louis Elks Lodge #9 - ECPv6.10.2//NONSGML v1.0//EN
CALSCALE:GREGORIAN
METHOD:PUBLISH
X-ORIGINAL-URL:https://old.elks9.org
X-WR-CALDESC:Events for All American St. Louis Elks Lodge #9
REFRESH-INTERVAL;VALUE=DURATION:PT1H
X-Robots-Tag:noindex
X-PUBLISHED-TTL:PT1H
BEGIN:VTIMEZONE
TZID:America/Chicago
BEGIN:DAYLIGHT
TZOFFSETFROM:-0600
TZOFFSETTO:-0500
TZNAME:CDT
DTSTART:20210314T080000
END:DAYLIGHT
BEGIN:STANDARD
TZOFFSETFROM:-0500
TZOFFSETTO:-0600
TZNAME:CST
DTSTART:20211107T070000
END:STANDARD
END:VTIMEZONE
BEGIN:VEVENT
DTSTART;TZID=America/Chicago:20210719T093000
DTEND;TZID=America/Chicago:20210723T114500
DTSTAMP:20260421T202434
CREATED:20210316T223421Z
LAST-MODIFIED:20210511T014622Z
UID:4244-1626687000-1627040700@old.elks9.org
SUMMARY:Ramot Amoona Swim Camp - Week 5
DESCRIPTION:
URL:https://old.elks9.org/event/ramot-amoona-swim-camp-week-5/
END:VEVENT
BEGIN:VEVENT
DTSTART;TZID=America/Chicago:20210720T120000
DTEND;TZID=America/Chicago:20210720T160000
DTSTAMP:20260421T202434
CREATED:20210710T010637Z
LAST-MODIFIED:20210710T010637Z
UID:5542-1626782400-1626796800@old.elks9.org
SUMMARY:Pipecoverers
DESCRIPTION:
URL:https://old.elks9.org/event/pipecoverers/
END:VEVENT
BEGIN:VEVENT
DTSTART;TZID=America/Chicago:20210720T183000
DTEND;TZID=America/Chicago:20210720T193000
DTSTAMP:20260421T202434
CREATED:20210428T025144Z
LAST-MODIFIED:20210428T025144Z
UID:4950-1626805800-1626809400@old.elks9.org
SUMMARY:Public Relations
DESCRIPTION:
URL:https://old.elks9.org/event/public-relations-9/
END:VEVENT
BEGIN:VEVENT
DTSTART;TZID=America/Chicago:20210720T183000
DTEND;TZID=America/Chicago:20210720T193000
DTSTAMP:20260421T202434
CREATED:20210716T011232Z
LAST-MODIFIED:20210716T011257Z
UID:5610-1626805800-1626809400@old.elks9.org
SUMMARY:Entertainment Committee
DESCRIPTION:
URL:https://old.elks9.org/event/entertainment-committee/
END:VEVENT
BEGIN:VEVENT
DTSTART;TZID=America/Chicago:20210720T200000
DTEND;TZID=America/Chicago:20210720T200000
DTSTAMP:20260421T202434
CREATED:20210624T023426Z
LAST-MODIFIED:20210624T023426Z
UID:5510-1626811200-1626811200@old.elks9.org
SUMMARY:Queen of Hearts
DESCRIPTION:
URL:https://old.elks9.org/event/queen-of-hearts-11/
END:VEVENT
END:VCALENDAR