BEGIN:VCALENDAR
VERSION:2.0
PRODID:-//All American St. Louis Elks Lodge #9 - ECPv6.10.2//NONSGML v1.0//EN
CALSCALE:GREGORIAN
METHOD:PUBLISH
X-WR-CALNAME:All American St. Louis Elks Lodge #9
X-ORIGINAL-URL:https://old.elks9.org
X-WR-CALDESC:Events for All American St. Louis Elks Lodge #9
REFRESH-INTERVAL;VALUE=DURATION:PT1H
X-Robots-Tag:noindex
X-PUBLISHED-TTL:PT1H
BEGIN:VTIMEZONE
TZID:America/Chicago
BEGIN:DAYLIGHT
TZOFFSETFROM:-0600
TZOFFSETTO:-0500
TZNAME:CDT
DTSTART:20210314T080000
END:DAYLIGHT
BEGIN:STANDARD
TZOFFSETFROM:-0500
TZOFFSETTO:-0600
TZNAME:CST
DTSTART:20211107T070000
END:STANDARD
END:VTIMEZONE
BEGIN:VEVENT
DTSTART;TZID=America/Chicago:20210712T093000
DTEND;TZID=America/Chicago:20210715T114500
DTSTAMP:20260421T202347
CREATED:20210316T224301Z
LAST-MODIFIED:20210511T014507Z
UID:4248-1626082200-1626349500@old.elks9.org
SUMMARY:Ramot Amoona Swim Camp - Week 4
DESCRIPTION:
URL:https://old.elks9.org/event/ramot-amoona-swim-camp-week-4-2/
END:VEVENT
BEGIN:VEVENT
DTSTART;TZID=America/Chicago:20210714T161500
DTEND;TZID=America/Chicago:20210714T194500
DTSTAMP:20260421T202347
CREATED:20210622T023324Z
LAST-MODIFIED:20210622T023324Z
UID:5418-1626279300-1626291900@old.elks9.org
SUMMARY:Swim Team practice
DESCRIPTION:
URL:https://old.elks9.org/event/swim-team-practice-5/
END:VEVENT
END:VCALENDAR