BEGIN:VCALENDAR
VERSION:2.0
PRODID:-//All American St. Louis Elks Lodge #9 - ECPv6.10.2//NONSGML v1.0//EN
CALSCALE:GREGORIAN
METHOD:PUBLISH
X-ORIGINAL-URL:https://old.elks9.org
X-WR-CALDESC:Events for All American St. Louis Elks Lodge #9
REFRESH-INTERVAL;VALUE=DURATION:PT1H
X-Robots-Tag:noindex
X-PUBLISHED-TTL:PT1H
BEGIN:VTIMEZONE
TZID:America/Chicago
BEGIN:DAYLIGHT
TZOFFSETFROM:-0600
TZOFFSETTO:-0500
TZNAME:CDT
DTSTART:20210314T080000
END:DAYLIGHT
BEGIN:STANDARD
TZOFFSETFROM:-0500
TZOFFSETTO:-0600
TZNAME:CST
DTSTART:20211107T070000
END:STANDARD
END:VTIMEZONE
BEGIN:VEVENT
DTSTART;TZID=America/Chicago:20210706T093000
DTEND;TZID=America/Chicago:20210709T114500
DTSTAMP:20260421T202404
CREATED:20210316T223550Z
LAST-MODIFIED:20210511T014250Z
UID:4246-1625563800-1625831100@old.elks9.org
SUMMARY:Ramot Amoona Swim Camp - Week 3
DESCRIPTION:
URL:https://old.elks9.org/event/ramot-amoona-swim-camp-week-4/
END:VEVENT
BEGIN:VEVENT
DTSTART;TZID=America/Chicago:20210709T070000
DTEND;TZID=America/Chicago:20210709T091500
DTSTAMP:20260421T202404
CREATED:20210622T023656Z
LAST-MODIFIED:20210622T023656Z
UID:5422-1625814000-1625822100@old.elks9.org
SUMMARY:Swim Team practice
DESCRIPTION:
URL:https://old.elks9.org/event/swim-team-practice-7/
END:VEVENT
BEGIN:VEVENT
DTSTART;TZID=America/Chicago:20210709T170000
DTEND;TZID=America/Chicago:20210709T190000
DTSTAMP:20260421T202404
CREATED:20210622T210306Z
LAST-MODIFIED:20210622T210306Z
UID:5472-1625850000-1625857200@old.elks9.org
SUMMARY:Happy Hour
DESCRIPTION:
URL:https://old.elks9.org/event/happy-hour-13/
END:VEVENT
END:VCALENDAR