BEGIN:VCALENDAR
VERSION:2.0
PRODID:-//All American St. Louis Elks Lodge #9 - ECPv6.10.2//NONSGML v1.0//EN
CALSCALE:GREGORIAN
METHOD:PUBLISH
X-ORIGINAL-URL:https://old.elks9.org
X-WR-CALDESC:Events for All American St. Louis Elks Lodge #9
REFRESH-INTERVAL;VALUE=DURATION:PT1H
X-Robots-Tag:noindex
X-PUBLISHED-TTL:PT1H
BEGIN:VTIMEZONE
TZID:America/Chicago
BEGIN:DAYLIGHT
TZOFFSETFROM:-0600
TZOFFSETTO:-0500
TZNAME:CDT
DTSTART:20210314T080000
END:DAYLIGHT
BEGIN:STANDARD
TZOFFSETFROM:-0500
TZOFFSETTO:-0600
TZNAME:CST
DTSTART:20211107T070000
END:STANDARD
END:VTIMEZONE
BEGIN:VEVENT
DTSTART;VALUE=DATE:20210703
DTEND;VALUE=DATE:20210707
DTSTAMP:20260421T185925
CREATED:20200918T204906Z
LAST-MODIFIED:20210628T220547Z
UID:2620-1625270400-1625615999@old.elks9.org
SUMMARY:BPOE National Convention - Tampa\, Florida
DESCRIPTION:
URL:https://old.elks9.org/event/elks-national-convention-kansas-city-missouri/
END:VEVENT
BEGIN:VEVENT
DTSTART;TZID=America/Chicago:20210704T110000
DTEND;TZID=America/Chicago:20210704T170000
DTSTAMP:20260421T185925
CREATED:20210507T000600Z
LAST-MODIFIED:20210507T000600Z
UID:5084-1625396400-1625418000@old.elks9.org
SUMMARY:East Patio Rental
DESCRIPTION:
URL:https://old.elks9.org/event/east-patio-rental-2/
END:VEVENT
END:VCALENDAR