BEGIN:VCALENDAR
VERSION:2.0
PRODID:-//All American St. Louis Elks Lodge #9 - ECPv6.10.2//NONSGML v1.0//EN
CALSCALE:GREGORIAN
METHOD:PUBLISH
X-ORIGINAL-URL:https://old.elks9.org
X-WR-CALDESC:Events for All American St. Louis Elks Lodge #9
REFRESH-INTERVAL;VALUE=DURATION:PT1H
X-Robots-Tag:noindex
X-PUBLISHED-TTL:PT1H
BEGIN:VTIMEZONE
TZID:America/Chicago
BEGIN:DAYLIGHT
TZOFFSETFROM:-0600
TZOFFSETTO:-0500
TZNAME:CDT
DTSTART:20210314T080000
END:DAYLIGHT
BEGIN:STANDARD
TZOFFSETFROM:-0500
TZOFFSETTO:-0600
TZNAME:CST
DTSTART:20211107T070000
END:STANDARD
END:VTIMEZONE
BEGIN:VEVENT
DTSTART;TZID=America/Chicago:20210628T093000
DTEND;TZID=America/Chicago:20210702T114500
DTSTAMP:20260421T185918
CREATED:20210316T224730Z
LAST-MODIFIED:20210511T014202Z
UID:4251-1624872600-1625226300@old.elks9.org
SUMMARY:Ramot Amoona Swim Camp - Week 2
DESCRIPTION:
URL:https://old.elks9.org/event/ramot-amoona-swim-camp-week-2/
END:VEVENT
BEGIN:VEVENT
DTSTART;VALUE=DATE:20210701
DTEND;VALUE=DATE:20210702
DTSTAMP:20260421T185918
CREATED:20210430T162254Z
LAST-MODIFIED:20210430T162254Z
UID:5010-1625097600-1625183999@old.elks9.org
SUMMARY:Food Drive - Month 2 (Items TBA)
DESCRIPTION:
URL:https://old.elks9.org/event/food-drive-month-2-items-tba/
END:VEVENT
BEGIN:VEVENT
DTSTART;TZID=America/Chicago:20210701T161500
DTEND;TZID=America/Chicago:20210701T194500
DTSTAMP:20260421T185918
CREATED:20210622T024528Z
LAST-MODIFIED:20210622T024528Z
UID:5433-1625156100-1625168700@old.elks9.org
SUMMARY:Swim Team practice
DESCRIPTION:
URL:https://old.elks9.org/event/swim-team-practice-12/
END:VEVENT
END:VCALENDAR