BEGIN:VCALENDAR
VERSION:2.0
PRODID:-//All American St. Louis Elks Lodge #9 - ECPv6.10.2//NONSGML v1.0//EN
CALSCALE:GREGORIAN
METHOD:PUBLISH
X-ORIGINAL-URL:https://old.elks9.org
X-WR-CALDESC:Events for All American St. Louis Elks Lodge #9
REFRESH-INTERVAL;VALUE=DURATION:PT1H
X-Robots-Tag:noindex
X-PUBLISHED-TTL:PT1H
BEGIN:VTIMEZONE
TZID:America/Chicago
BEGIN:DAYLIGHT
TZOFFSETFROM:-0600
TZOFFSETTO:-0500
TZNAME:CDT
DTSTART:20210314T080000
END:DAYLIGHT
BEGIN:STANDARD
TZOFFSETFROM:-0500
TZOFFSETTO:-0600
TZNAME:CST
DTSTART:20211107T070000
END:STANDARD
END:VTIMEZONE
BEGIN:VEVENT
DTSTART;TZID=America/Chicago:20210628T093000
DTEND;TZID=America/Chicago:20210702T114500
DTSTAMP:20260421T185924
CREATED:20210316T224730Z
LAST-MODIFIED:20210511T014202Z
UID:4251-1624872600-1625226300@old.elks9.org
SUMMARY:Ramot Amoona Swim Camp - Week 2
DESCRIPTION:
URL:https://old.elks9.org/event/ramot-amoona-swim-camp-week-2/
END:VEVENT
BEGIN:VEVENT
DTSTART;TZID=America/Chicago:20210629T164500
DTEND;TZID=America/Chicago:20210629T194500
DTSTAMP:20260421T185924
CREATED:20210622T024645Z
LAST-MODIFIED:20210622T024645Z
UID:5435-1624985100-1624995900@old.elks9.org
SUMMARY:Swim Team practice
DESCRIPTION:
URL:https://old.elks9.org/event/swim-team-practice-13/
END:VEVENT
BEGIN:VEVENT
DTSTART;TZID=America/Chicago:20210629T200000
DTEND;TZID=America/Chicago:20210629T200000
DTSTAMP:20260421T185924
CREATED:20210624T023101Z
LAST-MODIFIED:20210624T023101Z
UID:5504-1624996800-1624996800@old.elks9.org
SUMMARY:Queen of Hearts
DESCRIPTION:
URL:https://old.elks9.org/event/queen-of-hearts-8/
END:VEVENT
END:VCALENDAR