BEGIN:VCALENDAR
VERSION:2.0
PRODID:-//All American St. Louis Elks Lodge #9 - ECPv6.10.2//NONSGML v1.0//EN
CALSCALE:GREGORIAN
METHOD:PUBLISH
X-ORIGINAL-URL:https://old.elks9.org
X-WR-CALDESC:Events for All American St. Louis Elks Lodge #9
REFRESH-INTERVAL;VALUE=DURATION:PT1H
X-Robots-Tag:noindex
X-PUBLISHED-TTL:PT1H
BEGIN:VTIMEZONE
TZID:America/Chicago
BEGIN:DAYLIGHT
TZOFFSETFROM:-0600
TZOFFSETTO:-0500
TZNAME:CDT
DTSTART:20210314T080000
END:DAYLIGHT
BEGIN:STANDARD
TZOFFSETFROM:-0500
TZOFFSETTO:-0600
TZNAME:CST
DTSTART:20211107T070000
END:STANDARD
END:VTIMEZONE
BEGIN:VEVENT
DTSTART;TZID=America/Chicago:20210628T093000
DTEND;TZID=America/Chicago:20210702T114500
DTSTAMP:20260421T185925
CREATED:20210316T224730Z
LAST-MODIFIED:20210511T014202Z
UID:4251-1624872600-1625226300@old.elks9.org
SUMMARY:Ramot Amoona Swim Camp - Week 2
DESCRIPTION:
URL:https://old.elks9.org/event/ramot-amoona-swim-camp-week-2/
END:VEVENT
BEGIN:VEVENT
DTSTART;TZID=America/Chicago:20210628T173000
DTEND;TZID=America/Chicago:20210628T193000
DTSTAMP:20260421T185925
CREATED:20210105T020901Z
LAST-MODIFIED:20210105T020901Z
UID:3140-1624901400-1624908600@old.elks9.org
SUMMARY:Swim Meet - Away versus Creve Coeur Racquet Club
DESCRIPTION:
URL:https://old.elks9.org/event/swim-meet-away-versus-creve-coeur-racquet-club/
END:VEVENT
BEGIN:VEVENT
DTSTART;TZID=America/Chicago:20210628T183000
DTEND;TZID=America/Chicago:20210628T193000
DTSTAMP:20260421T185925
CREATED:20210302T010105Z
LAST-MODIFIED:20210302T010105Z
UID:3912-1624905000-1624908600@old.elks9.org
SUMMARY:Board of Directors
DESCRIPTION:
URL:https://old.elks9.org/event/board-of-directors-17/
END:VEVENT
END:VCALENDAR