BEGIN:VCALENDAR
VERSION:2.0
PRODID:-//All American St. Louis Elks Lodge #9 - ECPv6.10.2//NONSGML v1.0//EN
CALSCALE:GREGORIAN
METHOD:PUBLISH
X-WR-CALNAME:All American St. Louis Elks Lodge #9
X-ORIGINAL-URL:https://old.elks9.org
X-WR-CALDESC:Events for All American St. Louis Elks Lodge #9
REFRESH-INTERVAL;VALUE=DURATION:PT1H
X-Robots-Tag:noindex
X-PUBLISHED-TTL:PT1H
BEGIN:VTIMEZONE
TZID:America/Chicago
BEGIN:DAYLIGHT
TZOFFSETFROM:-0600
TZOFFSETTO:-0500
TZNAME:CDT
DTSTART:20210314T080000
END:DAYLIGHT
BEGIN:STANDARD
TZOFFSETFROM:-0500
TZOFFSETTO:-0600
TZNAME:CST
DTSTART:20211107T070000
END:STANDARD
END:VTIMEZONE
BEGIN:VEVENT
DTSTART;TZID=America/Chicago:20210621T093000
DTEND;TZID=America/Chicago:20210625T114500
DTSTAMP:20260422T004704
CREATED:20210316T224824Z
LAST-MODIFIED:20210511T014045Z
UID:4253-1624267800-1624621500@old.elks9.org
SUMMARY:Ramot Amoona Swim Camp - Week 1
DESCRIPTION:
URL:https://old.elks9.org/event/ramot-amoona-swim-camp-week-1/
END:VEVENT
BEGIN:VEVENT
DTSTART;TZID=America/Chicago:20210621T173000
DTEND;TZID=America/Chicago:20210621T183000
DTSTAMP:20260422T004704
CREATED:20210105T020956Z
LAST-MODIFIED:20210105T020956Z
UID:3142-1624296600-1624300200@old.elks9.org
SUMMARY:Swim Team - Bye Week
DESCRIPTION:
URL:https://old.elks9.org/event/swim-team-bye-week/
END:VEVENT
BEGIN:VEVENT
DTSTART;TZID=America/Chicago:20210621T183000
DTEND;TZID=America/Chicago:20210621T193000
DTSTAMP:20260422T004704
CREATED:20210106T020633Z
LAST-MODIFIED:20210304T020647Z
UID:3164-1624300200-1624303800@old.elks9.org
SUMMARY:Lodge Meeting + Initiation Ritual
DESCRIPTION:
URL:https://old.elks9.org/event/lodge-meeting-19/
END:VEVENT
END:VCALENDAR