BEGIN:VCALENDAR
VERSION:2.0
PRODID:-//All American St. Louis Elks Lodge #9 - ECPv6.10.2//NONSGML v1.0//EN
CALSCALE:GREGORIAN
METHOD:PUBLISH
X-ORIGINAL-URL:https://old.elks9.org
X-WR-CALDESC:Events for All American St. Louis Elks Lodge #9
REFRESH-INTERVAL;VALUE=DURATION:PT1H
X-Robots-Tag:noindex
X-PUBLISHED-TTL:PT1H
BEGIN:VTIMEZONE
TZID:America/Chicago
BEGIN:DAYLIGHT
TZOFFSETFROM:-0600
TZOFFSETTO:-0500
TZNAME:CDT
DTSTART:20210314T080000
END:DAYLIGHT
BEGIN:STANDARD
TZOFFSETFROM:-0500
TZOFFSETTO:-0600
TZNAME:CST
DTSTART:20211107T070000
END:STANDARD
END:VTIMEZONE
BEGIN:VEVENT
DTSTART;TZID=America/Chicago:20210610T164500
DTEND;TZID=America/Chicago:20210610T194500
DTSTAMP:20260421T232350
CREATED:20210622T030342Z
LAST-MODIFIED:20210622T030342Z
UID:5456-1623343500-1623354300@old.elks9.org
SUMMARY:Swim Team practice
DESCRIPTION:
URL:https://old.elks9.org/event/swim-team-practice-23/
END:VEVENT
BEGIN:VEVENT
DTSTART;TZID=America/Chicago:20210610T190000
DTEND;TZID=America/Chicago:20210610T200000
DTSTAMP:20260421T232350
CREATED:20210322T214614Z
LAST-MODIFIED:20210322T214614Z
UID:4306-1623351600-1623355200@old.elks9.org
SUMMARY:Veterans Committee
DESCRIPTION:
URL:https://old.elks9.org/event/veterans-committee-9/
END:VEVENT
END:VCALENDAR