BEGIN:VCALENDAR
VERSION:2.0
PRODID:-//All American St. Louis Elks Lodge #9 - ECPv6.10.2//NONSGML v1.0//EN
CALSCALE:GREGORIAN
METHOD:PUBLISH
X-WR-CALNAME:All American St. Louis Elks Lodge #9
X-ORIGINAL-URL:https://old.elks9.org
X-WR-CALDESC:Events for All American St. Louis Elks Lodge #9
REFRESH-INTERVAL;VALUE=DURATION:PT1H
X-Robots-Tag:noindex
X-PUBLISHED-TTL:PT1H
BEGIN:VTIMEZONE
TZID:America/Chicago
BEGIN:DAYLIGHT
TZOFFSETFROM:-0600
TZOFFSETTO:-0500
TZNAME:CDT
DTSTART:20210314T080000
END:DAYLIGHT
BEGIN:STANDARD
TZOFFSETFROM:-0500
TZOFFSETTO:-0600
TZNAME:CST
DTSTART:20211107T070000
END:STANDARD
END:VTIMEZONE
BEGIN:VEVENT
DTSTART;VALUE=DATE:20210601
DTEND;VALUE=DATE:20210602
DTSTAMP:20260422T004712
CREATED:20210430T162331Z
LAST-MODIFIED:20210518T194438Z
UID:5012-1622505600-1622591999@old.elks9.org
SUMMARY:Food Drive - Month 1 (cereal\, jelly\, canned goods)
DESCRIPTION:
URL:https://old.elks9.org/event/food-drive-month-1-items-tba/
END:VEVENT
BEGIN:VEVENT
DTSTART;TZID=America/Chicago:20210601T164500
DTEND;TZID=America/Chicago:20210601T194500
DTSTAMP:20260422T004712
CREATED:20210511T003209Z
LAST-MODIFIED:20210524T202841Z
UID:5119-1622565900-1622576700@old.elks9.org
SUMMARY:Swim Team practice
DESCRIPTION:
URL:https://old.elks9.org/event/swim-team-practice-day-1/
END:VEVENT
BEGIN:VEVENT
DTSTART;TZID=America/Chicago:20210601T180000
DTEND;TZID=America/Chicago:20210601T190000
DTSTAMP:20260422T004712
CREATED:20210518T185615Z
LAST-MODIFIED:20210518T185615Z
UID:5183-1622570400-1622574000@old.elks9.org
SUMMARY:Site Strategy
DESCRIPTION:
URL:https://old.elks9.org/event/site-strategy-10/
END:VEVENT
END:VCALENDAR