BEGIN:VCALENDAR
VERSION:2.0
PRODID:-//All American St. Louis Elks Lodge #9 - ECPv6.10.2//NONSGML v1.0//EN
CALSCALE:GREGORIAN
METHOD:PUBLISH
X-ORIGINAL-URL:https://old.elks9.org
X-WR-CALDESC:Events for All American St. Louis Elks Lodge #9
REFRESH-INTERVAL;VALUE=DURATION:PT1H
X-Robots-Tag:noindex
X-PUBLISHED-TTL:PT1H
BEGIN:VTIMEZONE
TZID:America/Chicago
BEGIN:DAYLIGHT
TZOFFSETFROM:-0600
TZOFFSETTO:-0500
TZNAME:CDT
DTSTART:20210314T080000
END:DAYLIGHT
BEGIN:STANDARD
TZOFFSETFROM:-0500
TZOFFSETTO:-0600
TZNAME:CST
DTSTART:20211107T070000
END:STANDARD
END:VTIMEZONE
BEGIN:VEVENT
DTSTART;TZID=America/Chicago:20210529T093000
DTEND;TZID=America/Chicago:20210529T093000
DTSTAMP:20260422T051212
CREATED:20210518T192940Z
LAST-MODIFIED:20210527T193710Z
UID:5207-1622280600-1622280600@old.elks9.org
SUMMARY:Americanism/Lodge Auxiliary - Flags of Honor to be placed around the front driveway
DESCRIPTION:
URL:https://old.elks9.org/event/americanism-flags-of-honor-places-along-the-driveway/
END:VEVENT
BEGIN:VEVENT
DTSTART;TZID=America/Chicago:20210529T110000
DTEND;TZID=America/Chicago:20210529T210000
DTSTAMP:20260422T051212
CREATED:20210430T180940Z
LAST-MODIFIED:20210430T180940Z
UID:5024-1622286000-1622322000@old.elks9.org
SUMMARY:Pool - Opening Day
DESCRIPTION:Opening Day- Saturday May\n29th 11am-9pm
URL:https://old.elks9.org/event/pool-opening-day/
END:VEVENT
BEGIN:VEVENT
DTSTART;TZID=America/Chicago:20210529T170000
DTEND;TZID=America/Chicago:20210529T220000
DTSTAMP:20260422T051212
CREATED:20210529T014657Z
LAST-MODIFIED:20210529T014717Z
UID:5302-1622307600-1622325600@old.elks9.org
SUMMARY:East Patio Rental (Hogan Memorial)
DESCRIPTION:
URL:https://old.elks9.org/event/east-patio-rental-hogan-memorial/
END:VEVENT
END:VCALENDAR