BEGIN:VCALENDAR
VERSION:2.0
PRODID:-//All American St. Louis Elks Lodge #9 - ECPv6.10.2//NONSGML v1.0//EN
CALSCALE:GREGORIAN
METHOD:PUBLISH
X-ORIGINAL-URL:https://old.elks9.org
X-WR-CALDESC:Events for All American St. Louis Elks Lodge #9
REFRESH-INTERVAL;VALUE=DURATION:PT1H
X-Robots-Tag:noindex
X-PUBLISHED-TTL:PT1H
BEGIN:VTIMEZONE
TZID:America/Chicago
BEGIN:DAYLIGHT
TZOFFSETFROM:-0600
TZOFFSETTO:-0500
TZNAME:CDT
DTSTART:20210314T080000
END:DAYLIGHT
BEGIN:STANDARD
TZOFFSETFROM:-0500
TZOFFSETTO:-0600
TZNAME:CST
DTSTART:20211107T070000
END:STANDARD
END:VTIMEZONE
BEGIN:VEVENT
DTSTART;TZID=America/Chicago:20210528T150000
DTEND;TZID=America/Chicago:20210528T150000
DTSTAMP:20260422T051212
CREATED:20210518T191137Z
LAST-MODIFIED:20210518T191137Z
UID:5205-1622214000-1622214000@old.elks9.org
SUMMARY:Martino Scholarship - Hard application deadline (3:00pm)
DESCRIPTION:
URL:https://old.elks9.org/event/martino-scholarship-hard-application-deadline-300pm/
END:VEVENT
BEGIN:VEVENT
DTSTART;TZID=America/Chicago:20210528T170000
DTEND;TZID=America/Chicago:20210528T190000
DTSTAMP:20260422T051212
CREATED:20201013T005914Z
LAST-MODIFIED:20210526T202112Z
UID:2792-1622221200-1622228400@old.elks9.org
SUMMARY:143rd Birthday of Lodge 9 - 1/2 priced happy hour\, bring & share appetizers
DESCRIPTION:
URL:https://old.elks9.org/event/lodge-9-142nd-birthday/
END:VEVENT
END:VCALENDAR