BEGIN:VCALENDAR
VERSION:2.0
PRODID:-//All American St. Louis Elks Lodge #9 - ECPv6.10.2//NONSGML v1.0//EN
CALSCALE:GREGORIAN
METHOD:PUBLISH
X-ORIGINAL-URL:https://old.elks9.org
X-WR-CALDESC:Events for All American St. Louis Elks Lodge #9
REFRESH-INTERVAL;VALUE=DURATION:PT1H
X-Robots-Tag:noindex
X-PUBLISHED-TTL:PT1H
BEGIN:VTIMEZONE
TZID:America/Chicago
BEGIN:DAYLIGHT
TZOFFSETFROM:-0600
TZOFFSETTO:-0500
TZNAME:CDT
DTSTART:20210314T080000
END:DAYLIGHT
BEGIN:STANDARD
TZOFFSETFROM:-0500
TZOFFSETTO:-0600
TZNAME:CST
DTSTART:20211107T070000
END:STANDARD
END:VTIMEZONE
BEGIN:VEVENT
DTSTART;TZID=America/Chicago:20210522T080000
DTEND;TZID=America/Chicago:20210522T150000
DTSTAMP:20260422T051216
CREATED:20210226T042030Z
LAST-MODIFIED:20210226T042638Z
UID:3823-1621670400-1621695600@old.elks9.org
SUMMARY:Affton Golf Tournament
DESCRIPTION:
URL:https://old.elks9.org/event/affton-golf-tournament/
END:VEVENT
BEGIN:VEVENT
DTSTART;TZID=America/Chicago:20210522T090000
DTEND;TZID=America/Chicago:20210522T150000
DTSTAMP:20260422T051216
CREATED:20210315T202502Z
LAST-MODIFIED:20210330T212809Z
UID:4210-1621674000-1621695600@old.elks9.org
SUMMARY:MEA - Officer Training @ Cape Girardeau 636
DESCRIPTION:
URL:https://old.elks9.org/event/mea-officer-training-cape-girardeau-636/
END:VEVENT
BEGIN:VEVENT
DTSTART;TZID=America/Chicago:20210522T100000
DTEND;TZID=America/Chicago:20210522T120000
DTSTAMP:20260422T051216
CREATED:20210518T185205Z
LAST-MODIFIED:20210518T195259Z
UID:5181-1621677600-1621684800@old.elks9.org
SUMMARY:Pool work day (more the merrier)
DESCRIPTION:
URL:https://old.elks9.org/event/pool-work-day-more-the-merrier-2/
END:VEVENT
BEGIN:VEVENT
DTSTART;TZID=America/Chicago:20210522T120000
DTEND;TZID=America/Chicago:20210522T140000
DTSTAMP:20260422T051216
CREATED:20210514T204549Z
LAST-MODIFIED:20210514T205135Z
UID:5165-1621684800-1621692000@old.elks9.org
SUMMARY:Meet the Swim Coaches
DESCRIPTION:
URL:https://old.elks9.org/event/meet-the-swim-coaches/
END:VEVENT
END:VCALENDAR