BEGIN:VCALENDAR
VERSION:2.0
PRODID:-//All American St. Louis Elks Lodge #9 - ECPv6.10.2//NONSGML v1.0//EN
CALSCALE:GREGORIAN
METHOD:PUBLISH
X-WR-CALNAME:All American St. Louis Elks Lodge #9
X-ORIGINAL-URL:https://old.elks9.org
X-WR-CALDESC:Events for All American St. Louis Elks Lodge #9
REFRESH-INTERVAL;VALUE=DURATION:PT1H
X-Robots-Tag:noindex
X-PUBLISHED-TTL:PT1H
BEGIN:VTIMEZONE
TZID:America/Chicago
BEGIN:DAYLIGHT
TZOFFSETFROM:-0600
TZOFFSETTO:-0500
TZNAME:CDT
DTSTART:20210314T080000
END:DAYLIGHT
BEGIN:STANDARD
TZOFFSETFROM:-0500
TZOFFSETTO:-0600
TZNAME:CST
DTSTART:20211107T070000
END:STANDARD
END:VTIMEZONE
BEGIN:VEVENT
DTSTART;TZID=America/Chicago:20210515T090000
DTEND;TZID=America/Chicago:20210515T150000
DTSTAMP:20260422T004708
CREATED:20210315T202347Z
LAST-MODIFIED:20210330T212647Z
UID:4207-1621069200-1621090800@old.elks9.org
SUMMARY:MEA - Officer Training @ Chillicothe #656
DESCRIPTION:
URL:https://old.elks9.org/event/mea-officer-training-chillicothe-656/
END:VEVENT
BEGIN:VEVENT
DTSTART;TZID=America/Chicago:20210515T100000
DTEND;TZID=America/Chicago:20210515T140000
DTSTAMP:20260422T004708
CREATED:20210430T180829Z
LAST-MODIFIED:20210518T195030Z
UID:5022-1621072800-1621087200@old.elks9.org
SUMMARY:Pool Work Day (more the merrier)
DESCRIPTION:POOL Work Day Saturday\nMay 15th 10am-2pm
URL:https://old.elks9.org/event/pool-work-day-more-the-merrier/
END:VEVENT
END:VCALENDAR