BEGIN:VCALENDAR
VERSION:2.0
PRODID:-//All American St. Louis Elks Lodge #9 - ECPv6.10.2//NONSGML v1.0//EN
CALSCALE:GREGORIAN
METHOD:PUBLISH
X-WR-CALNAME:All American St. Louis Elks Lodge #9
X-ORIGINAL-URL:https://old.elks9.org
X-WR-CALDESC:Events for All American St. Louis Elks Lodge #9
REFRESH-INTERVAL;VALUE=DURATION:PT1H
X-Robots-Tag:noindex
X-PUBLISHED-TTL:PT1H
BEGIN:VTIMEZONE
TZID:America/Chicago
BEGIN:DAYLIGHT
TZOFFSETFROM:-0600
TZOFFSETTO:-0500
TZNAME:CDT
DTSTART:20210314T080000
END:DAYLIGHT
BEGIN:STANDARD
TZOFFSETFROM:-0500
TZOFFSETTO:-0600
TZNAME:CST
DTSTART:20211107T070000
END:STANDARD
END:VTIMEZONE
BEGIN:VEVENT
DTSTART;TZID=America/Chicago:20210511T183000
DTEND;TZID=America/Chicago:20210511T193000
DTSTAMP:20260422T004704
CREATED:20210226T221311Z
LAST-MODIFIED:20210226T221311Z
UID:3837-1620757800-1620761400@old.elks9.org
SUMMARY:Pool Committee
DESCRIPTION:
URL:https://old.elks9.org/event/pool-committee-5/
END:VEVENT
BEGIN:VEVENT
DTSTART;TZID=America/Chicago:20210511T193000
DTEND;TZID=America/Chicago:20210511T200000
DTSTAMP:20260422T004704
CREATED:20210212T025834Z
LAST-MODIFIED:20210429T163816Z
UID:3598-1620761400-1620763200@old.elks9.org
SUMMARY:QoH + New Military Sign reveal (5 of 6 - Air Force)
DESCRIPTION:
URL:https://old.elks9.org/event/qoh-new-military-sign-reveal-5-of-6/
END:VEVENT
END:VCALENDAR