BEGIN:VCALENDAR
VERSION:2.0
PRODID:-//All American St. Louis Elks Lodge #9 - ECPv6.10.2//NONSGML v1.0//EN
CALSCALE:GREGORIAN
METHOD:PUBLISH
X-WR-CALNAME:All American St. Louis Elks Lodge #9
X-ORIGINAL-URL:https://old.elks9.org
X-WR-CALDESC:Events for All American St. Louis Elks Lodge #9
REFRESH-INTERVAL;VALUE=DURATION:PT1H
X-Robots-Tag:noindex
X-PUBLISHED-TTL:PT1H
BEGIN:VTIMEZONE
TZID:UTC
BEGIN:STANDARD
TZOFFSETFROM:+0000
TZOFFSETTO:+0000
TZNAME:UTC
DTSTART:20210101T000000
END:STANDARD
END:VTIMEZONE
BEGIN:VTIMEZONE
TZID:America/Chicago
BEGIN:DAYLIGHT
TZOFFSETFROM:-0600
TZOFFSETTO:-0500
TZNAME:CDT
DTSTART:20210314T080000
END:DAYLIGHT
BEGIN:STANDARD
TZOFFSETFROM:-0500
TZOFFSETTO:-0600
TZNAME:CST
DTSTART:20211107T070000
END:STANDARD
END:VTIMEZONE
BEGIN:VEVENT
DTSTART;TZID=UTC:20210508T090000
DTEND;TZID=UTC:20210508T120000
DTSTAMP:20260422T051032
CREATED:20210506T012018Z
LAST-MODIFIED:20210506T012018Z
UID:5063-1620464400-1620475200@old.elks9.org
SUMMARY:Scout Me In
DESCRIPTION:
URL:https://old.elks9.org/event/scout-me-in/
END:VEVENT
BEGIN:VEVENT
DTSTART;TZID=America/Chicago:20210508T100000
DTEND;TZID=America/Chicago:20210508T110000
DTSTAMP:20260422T051032
CREATED:20201124T021432Z
LAST-MODIFIED:20210415T203325Z
UID:2964-1620468000-1620471600@old.elks9.org
SUMMARY:Mothers Day Ritual (1st Annual)
DESCRIPTION:
URL:https://old.elks9.org/event/mothers-day-ritual-1st-annual/
END:VEVENT
BEGIN:VEVENT
DTSTART;TZID=America/Chicago:20210508T130000
DTEND;TZID=America/Chicago:20210508T173000
DTSTAMP:20260422T051032
CREATED:20210212T222212Z
LAST-MODIFIED:20210415T013341Z
UID:3606-1620478800-1620495000@old.elks9.org
SUMMARY:BB Meet Shoot n'More - hosted by the Veterans Committee
DESCRIPTION:
URL:https://old.elks9.org/event/bb-gun-shoot-hosted-by-the-veterans-committee-tentative/
END:VEVENT
END:VCALENDAR