BEGIN:VCALENDAR
VERSION:2.0
PRODID:-//All American St. Louis Elks Lodge #9 - ECPv6.10.2//NONSGML v1.0//EN
CALSCALE:GREGORIAN
METHOD:PUBLISH
X-WR-CALNAME:All American St. Louis Elks Lodge #9
X-ORIGINAL-URL:https://old.elks9.org
X-WR-CALDESC:Events for All American St. Louis Elks Lodge #9
REFRESH-INTERVAL;VALUE=DURATION:PT1H
X-Robots-Tag:noindex
X-PUBLISHED-TTL:PT1H
BEGIN:VTIMEZONE
TZID:America/Chicago
BEGIN:DAYLIGHT
TZOFFSETFROM:-0600
TZOFFSETTO:-0500
TZNAME:CDT
DTSTART:20210314T080000
END:DAYLIGHT
BEGIN:STANDARD
TZOFFSETFROM:-0500
TZOFFSETTO:-0600
TZNAME:CST
DTSTART:20211107T070000
END:STANDARD
END:VTIMEZONE
BEGIN:VTIMEZONE
TZID:UTC
BEGIN:STANDARD
TZOFFSETFROM:+0000
TZOFFSETTO:+0000
TZNAME:UTC
DTSTART:20210101T000000
END:STANDARD
END:VTIMEZONE
BEGIN:VEVENT
DTSTART;VALUE=DATE:20210501
DTEND;VALUE=DATE:20210508
DTSTAMP:20260422T051028
CREATED:20210303T043846Z
LAST-MODIFIED:20210303T043846Z
UID:3936-1619827200-1620431999@old.elks9.org
SUMMARY:Youth Week
DESCRIPTION:
URL:https://old.elks9.org/event/youth-week/
END:VEVENT
BEGIN:VEVENT
DTSTART;TZID=America/Chicago:20210505T130000
DTEND;TZID=America/Chicago:20210505T140000
DTSTAMP:20260422T051028
CREATED:20210225T213813Z
LAST-MODIFIED:20210225T213813Z
UID:3771-1620219600-1620223200@old.elks9.org
SUMMARY:Wednesday Club - Drive Up
DESCRIPTION:
URL:https://old.elks9.org/event/wednesday-club-drive-up/
END:VEVENT
BEGIN:VEVENT
DTSTART;TZID=UTC:20210505T183000
DTEND;TZID=UTC:20210505T193000
DTSTAMP:20260422T051028
CREATED:20210407T013158Z
LAST-MODIFIED:20210407T013158Z
UID:4432-1620239400-1620243000@old.elks9.org
SUMMARY:House Committee
DESCRIPTION:
URL:https://old.elks9.org/event/house-committee-10/
END:VEVENT
BEGIN:VEVENT
DTSTART;TZID=America/Chicago:20210505T190000
DTEND;TZID=America/Chicago:20210505T200000
DTSTAMP:20260422T051028
CREATED:20210322T200349Z
LAST-MODIFIED:20210427T210247Z
UID:4300-1620241200-1620244800@old.elks9.org
SUMMARY:Lodge Auxiliary
DESCRIPTION:
URL:https://old.elks9.org/event/ladies-auxiliary-17/
END:VEVENT
END:VCALENDAR