BEGIN:VCALENDAR
VERSION:2.0
PRODID:-//All American St. Louis Elks Lodge #9 - ECPv6.10.2//NONSGML v1.0//EN
CALSCALE:GREGORIAN
METHOD:PUBLISH
X-ORIGINAL-URL:https://old.elks9.org
X-WR-CALDESC:Events for All American St. Louis Elks Lodge #9
REFRESH-INTERVAL;VALUE=DURATION:PT1H
X-Robots-Tag:noindex
X-PUBLISHED-TTL:PT1H
BEGIN:VTIMEZONE
TZID:America/Chicago
BEGIN:DAYLIGHT
TZOFFSETFROM:-0600
TZOFFSETTO:-0500
TZNAME:CDT
DTSTART:20210314T080000
END:DAYLIGHT
BEGIN:STANDARD
TZOFFSETFROM:-0500
TZOFFSETTO:-0600
TZNAME:CST
DTSTART:20211107T070000
END:STANDARD
END:VTIMEZONE
BEGIN:VEVENT
DTSTART;TZID=America/Chicago:20210405T183000
DTEND;TZID=America/Chicago:20210405T193000
DTSTAMP:20260422T051132
CREATED:20201012T211521Z
LAST-MODIFIED:20210326T000354Z
UID:2774-1617647400-1617651000@old.elks9.org
SUMMARY:Lodge Meeting
DESCRIPTION:
URL:https://old.elks9.org/event/lodge-meeting-17/
END:VEVENT
BEGIN:VEVENT
DTSTART;TZID=America/Chicago:20210405T183000
DTEND;TZID=America/Chicago:20210405T193000
DTSTAMP:20260422T051132
CREATED:20210326T000707Z
LAST-MODIFIED:20210326T000707Z
UID:4361-1617647400-1617651000@old.elks9.org
SUMMARY:New Officers Installation
DESCRIPTION:
URL:https://old.elks9.org/event/new-officers-installation/
END:VEVENT
END:VCALENDAR