BEGIN:VCALENDAR
VERSION:2.0
PRODID:-//All American St. Louis Elks Lodge #9 - ECPv6.10.2//NONSGML v1.0//EN
CALSCALE:GREGORIAN
METHOD:PUBLISH
X-ORIGINAL-URL:https://old.elks9.org
X-WR-CALDESC:Events for All American St. Louis Elks Lodge #9
REFRESH-INTERVAL;VALUE=DURATION:PT1H
X-Robots-Tag:noindex
X-PUBLISHED-TTL:PT1H
BEGIN:VTIMEZONE
TZID:America/Chicago
BEGIN:DAYLIGHT
TZOFFSETFROM:-0600
TZOFFSETTO:-0500
TZNAME:CDT
DTSTART:20210314T080000
END:DAYLIGHT
BEGIN:STANDARD
TZOFFSETFROM:-0500
TZOFFSETTO:-0600
TZNAME:CST
DTSTART:20211107T070000
END:STANDARD
END:VTIMEZONE
BEGIN:VEVENT
DTSTART;VALUE=DATE:20210323
DTEND;VALUE=DATE:20210324
DTSTAMP:20260422T051154
CREATED:20210322T193643Z
LAST-MODIFIED:20210322T193643Z
UID:4276-1616457600-1616543999@old.elks9.org
SUMMARY:Deadline - Fish Fry signup
DESCRIPTION:
URL:https://old.elks9.org/event/deadline-fish-fry-signup/
END:VEVENT
BEGIN:VEVENT
DTSTART;TZID=America/Chicago:20210323T173000
DTEND;TZID=America/Chicago:20210323T183000
DTSTAMP:20260422T051154
CREATED:20210306T022428Z
LAST-MODIFIED:20210306T022428Z
UID:4067-1616520600-1616524200@old.elks9.org
SUMMARY:All American Lodge
DESCRIPTION:
URL:https://old.elks9.org/event/all-american-lodge-3/
END:VEVENT
BEGIN:VEVENT
DTSTART;TZID=America/Chicago:20210323T180000
DTEND;TZID=America/Chicago:20210323T190000
DTSTAMP:20260422T051154
CREATED:20210304T215743Z
LAST-MODIFIED:20210304T215743Z
UID:4035-1616522400-1616526000@old.elks9.org
SUMMARY:Site Strategy
DESCRIPTION:
URL:https://old.elks9.org/event/site-strategy-8/
END:VEVENT
END:VCALENDAR