BEGIN:VCALENDAR
VERSION:2.0
PRODID:-//All American St. Louis Elks Lodge #9 - ECPv6.10.2//NONSGML v1.0//EN
CALSCALE:GREGORIAN
METHOD:PUBLISH
X-ORIGINAL-URL:https://old.elks9.org
X-WR-CALDESC:Events for All American St. Louis Elks Lodge #9
REFRESH-INTERVAL;VALUE=DURATION:PT1H
X-Robots-Tag:noindex
X-PUBLISHED-TTL:PT1H
BEGIN:VTIMEZONE
TZID:America/Chicago
BEGIN:DAYLIGHT
TZOFFSETFROM:-0600
TZOFFSETTO:-0500
TZNAME:CDT
DTSTART:20210314T080000
END:DAYLIGHT
BEGIN:STANDARD
TZOFFSETFROM:-0500
TZOFFSETTO:-0600
TZNAME:CST
DTSTART:20211107T070000
END:STANDARD
END:VTIMEZONE
BEGIN:VEVENT
DTSTART;VALUE=DATE:20210301
DTEND;VALUE=DATE:20210302
DTSTAMP:20260422T051157
CREATED:20210129T224235Z
LAST-MODIFIED:20210129T224235Z
UID:3472-1614556800-1614643199@old.elks9.org
SUMMARY:Martino Scholarship - Open for applications
DESCRIPTION:
URL:https://old.elks9.org/event/martino-scholarship-open-for-applications/
END:VEVENT
BEGIN:VEVENT
DTSTART;TZID=America/Chicago:20210301T173000
DTEND;TZID=America/Chicago:20210301T183000
DTSTAMP:20260422T051157
CREATED:20210106T014111Z
LAST-MODIFIED:20210106T014111Z
UID:3155-1614619800-1614623400@old.elks9.org
SUMMARY:Scouts Appreciation Reception
DESCRIPTION:
URL:https://old.elks9.org/event/scouts-appreciation-reception/
END:VEVENT
BEGIN:VEVENT
DTSTART;TZID=America/Chicago:20210301T200000
DTEND;TZID=America/Chicago:20210301T200000
DTSTAMP:20260422T051157
CREATED:20200712T224009Z
LAST-MODIFIED:20210106T014011Z
UID:1066-1614628800-1614628800@old.elks9.org
SUMMARY:Lodge Meeting + Awards Ceremony
DESCRIPTION:
URL:https://old.elks9.org/event/lodge-meeting-2/
END:VEVENT
END:VCALENDAR