BEGIN:VCALENDAR
VERSION:2.0
PRODID:-//All American St. Louis Elks Lodge #9 - ECPv6.10.2//NONSGML v1.0//EN
CALSCALE:GREGORIAN
METHOD:PUBLISH
X-WR-CALNAME:All American St. Louis Elks Lodge #9
X-ORIGINAL-URL:https://old.elks9.org
X-WR-CALDESC:Events for All American St. Louis Elks Lodge #9
REFRESH-INTERVAL;VALUE=DURATION:PT1H
X-Robots-Tag:noindex
X-PUBLISHED-TTL:PT1H
BEGIN:VTIMEZONE
TZID:America/Chicago
BEGIN:DAYLIGHT
TZOFFSETFROM:-0600
TZOFFSETTO:-0500
TZNAME:CDT
DTSTART:20210314T080000
END:DAYLIGHT
BEGIN:STANDARD
TZOFFSETFROM:-0500
TZOFFSETTO:-0600
TZNAME:CST
DTSTART:20211107T070000
END:STANDARD
END:VTIMEZONE
BEGIN:VEVENT
DTSTART;VALUE=DATE:20210216
DTEND;VALUE=DATE:20210217
DTSTAMP:20260422T103124
CREATED:20201013T005605Z
LAST-MODIFIED:20201013T005605Z
UID:2790-1613433600-1613519999@old.elks9.org
SUMMARY:Birthday of the Order
DESCRIPTION:
URL:https://old.elks9.org/event/birthday-of-the-order/
END:VEVENT
BEGIN:VEVENT
DTSTART;TZID=America/Chicago:20210216T180000
DTEND;TZID=America/Chicago:20210216T190000
DTSTAMP:20260422T103124
CREATED:20210208T224759Z
LAST-MODIFIED:20210208T224759Z
UID:3544-1613498400-1613502000@old.elks9.org
SUMMARY:Site Strategy
DESCRIPTION:
URL:https://old.elks9.org/event/site-strategy-6/
END:VEVENT
BEGIN:VEVENT
DTSTART;TZID=America/Chicago:20210216T183000
DTEND;TZID=America/Chicago:20210216T193000
DTSTAMP:20260422T103124
CREATED:20200714T022416Z
LAST-MODIFIED:20201028T202130Z
UID:1313-1613500200-1613503800@old.elks9.org
SUMMARY:P.R. Commitee
DESCRIPTION:
URL:https://old.elks9.org/event/p-r-commitee/
END:VEVENT
BEGIN:VEVENT
DTSTART;TZID=America/Chicago:20210216T200000
DTEND;TZID=America/Chicago:20210216T203000
DTSTAMP:20260422T103124
CREATED:20210126T010437Z
LAST-MODIFIED:20210126T010437Z
UID:3440-1613505600-1613507400@old.elks9.org
SUMMARY:Queen of Hearts
DESCRIPTION:
URL:https://old.elks9.org/event/queen-of-hearts-3/
END:VEVENT
END:VCALENDAR