BEGIN:VCALENDAR
VERSION:2.0
PRODID:-//All American St. Louis Elks Lodge #9 - ECPv6.10.2//NONSGML v1.0//EN
CALSCALE:GREGORIAN
METHOD:PUBLISH
X-WR-CALNAME:All American St. Louis Elks Lodge #9
X-ORIGINAL-URL:https://old.elks9.org
X-WR-CALDESC:Events for All American St. Louis Elks Lodge #9
REFRESH-INTERVAL;VALUE=DURATION:PT1H
X-Robots-Tag:noindex
X-PUBLISHED-TTL:PT1H
BEGIN:VTIMEZONE
TZID:America/Chicago
BEGIN:DAYLIGHT
TZOFFSETFROM:-0600
TZOFFSETTO:-0500
TZNAME:CDT
DTSTART:20210314T080000
END:DAYLIGHT
BEGIN:STANDARD
TZOFFSETFROM:-0500
TZOFFSETTO:-0600
TZNAME:CST
DTSTART:20211107T070000
END:STANDARD
END:VTIMEZONE
BEGIN:VEVENT
DTSTART;VALUE=DATE:20210118
DTEND;VALUE=DATE:20210119
DTSTAMP:20260422T191355
CREATED:20200714T021603Z
LAST-MODIFIED:20200915T053357Z
UID:1290-1610928000-1611014399@old.elks9.org
SUMMARY:MLK Day
DESCRIPTION:
URL:https://old.elks9.org/event/mlk-day/
END:VEVENT
BEGIN:VEVENT
DTSTART;TZID=America/Chicago:20210118T183000
DTEND;TZID=America/Chicago:20210118T193000
DTSTAMP:20260422T191355
CREATED:20200714T021640Z
LAST-MODIFIED:20200915T053324Z
UID:1292-1610994600-1610998200@old.elks9.org
SUMMARY:Board of Directors
DESCRIPTION:
URL:https://old.elks9.org/event/board-of-directors-8/
END:VEVENT
END:VCALENDAR