BEGIN:VCALENDAR
VERSION:2.0
PRODID:-//All American St. Louis Elks Lodge #9 - ECPv6.10.2//NONSGML v1.0//EN
CALSCALE:GREGORIAN
METHOD:PUBLISH
X-WR-CALNAME:All American St. Louis Elks Lodge #9
X-ORIGINAL-URL:https://old.elks9.org
X-WR-CALDESC:Events for All American St. Louis Elks Lodge #9
REFRESH-INTERVAL;VALUE=DURATION:PT1H
X-Robots-Tag:noindex
X-PUBLISHED-TTL:PT1H
BEGIN:VTIMEZONE
TZID:America/Chicago
BEGIN:DAYLIGHT
TZOFFSETFROM:-0600
TZOFFSETTO:-0500
TZNAME:CDT
DTSTART:20200308T080000
END:DAYLIGHT
BEGIN:STANDARD
TZOFFSETFROM:-0500
TZOFFSETTO:-0600
TZNAME:CST
DTSTART:20201101T070000
END:STANDARD
END:VTIMEZONE
BEGIN:VEVENT
DTSTART;VALUE=DATE:20201215
DTEND;VALUE=DATE:20201216
DTSTAMP:20260422T191523
CREATED:20200903T011626Z
LAST-MODIFIED:20200915T054128Z
UID:2377-1607990400-1608076799@old.elks9.org
SUMMARY:BPOE American Essay Contest - Deadline
DESCRIPTION:
URL:https://old.elks9.org/event/bpoe-american-essay-contest-deadline/
END:VEVENT
BEGIN:VEVENT
DTSTART;VALUE=DATE:20201215
DTEND;VALUE=DATE:20201222
DTSTAMP:20260422T191523
CREATED:20201215T030221Z
LAST-MODIFIED:20201218T013454Z
UID:3070-1607990400-1608595199@old.elks9.org
SUMMARY:Closed - "Safer at Home Order" Week 5
DESCRIPTION:
URL:https://old.elks9.org/event/closed-safer-at-home-order-week-5/
END:VEVENT
BEGIN:VEVENT
DTSTART;TZID=America/Chicago:20201215T160000
DTEND;TZID=America/Chicago:20201215T190000
DTSTAMP:20260422T191523
CREATED:20201218T012829Z
LAST-MODIFIED:20201218T012829Z
UID:3085-1608048000-1608058800@old.elks9.org
SUMMARY:Winter Coat & Food Drive - Drop Off\, Week 2
DESCRIPTION:
URL:https://old.elks9.org/event/winter-coat-food-drive-drop-off-week-2/
END:VEVENT
BEGIN:VEVENT
DTSTART;TZID=America/Chicago:20201215T183000
DTEND;TZID=America/Chicago:20201215T193000
DTSTAMP:20260422T191523
CREATED:20200714T020240Z
LAST-MODIFIED:20201028T202351Z
UID:1276-1608057000-1608060600@old.elks9.org
SUMMARY:P.R. Committee
DESCRIPTION:
URL:https://old.elks9.org/event/p-r-committee-7/
END:VEVENT
BEGIN:VEVENT
DTSTART;TZID=America/Chicago:20201215T200000
DTEND;TZID=America/Chicago:20201215T203000
DTSTAMP:20260422T191523
CREATED:20201110T024547Z
LAST-MODIFIED:20201116T230902Z
UID:2902-1608062400-1608064200@old.elks9.org
SUMMARY:QoH (8pm drawing) - Potential Re Opening
DESCRIPTION:
URL:https://old.elks9.org/event/qoh-8pm-drawing-3/
END:VEVENT
END:VCALENDAR