BEGIN:VCALENDAR
VERSION:2.0
PRODID:-//All American St. Louis Elks Lodge #9 - ECPv6.10.2//NONSGML v1.0//EN
CALSCALE:GREGORIAN
METHOD:PUBLISH
X-WR-CALNAME:All American St. Louis Elks Lodge #9
X-ORIGINAL-URL:https://old.elks9.org
X-WR-CALDESC:Events for All American St. Louis Elks Lodge #9
REFRESH-INTERVAL;VALUE=DURATION:PT1H
X-Robots-Tag:noindex
X-PUBLISHED-TTL:PT1H
BEGIN:VTIMEZONE
TZID:America/Chicago
BEGIN:DAYLIGHT
TZOFFSETFROM:-0600
TZOFFSETTO:-0500
TZNAME:CDT
DTSTART:20200308T080000
END:DAYLIGHT
BEGIN:STANDARD
TZOFFSETFROM:-0500
TZOFFSETTO:-0600
TZNAME:CST
DTSTART:20201101T070000
END:STANDARD
END:VTIMEZONE
BEGIN:VEVENT
DTSTART;VALUE=DATE:20201117
DTEND;VALUE=DATE:20201215
DTSTAMP:20260422T232654
CREATED:20201116T221945Z
LAST-MODIFIED:20201116T221945Z
UID:2932-1605571200-1607990399@old.elks9.org
SUMMARY:Closed - "Safer at Home Order"
DESCRIPTION:https://stlcorona.com/dr-pages-messages/public-health-orders/all-public-health-orders-archives/2019-novel-coronavirus-covid-19-safer-at-home-order/
URL:https://old.elks9.org/event/closed-safer-at-home-order/
END:VEVENT
BEGIN:VEVENT
DTSTART;TZID=America/Chicago:20201124T180000
DTEND;TZID=America/Chicago:20201124T190000
DTSTAMP:20260422T232654
CREATED:20201028T194602Z
LAST-MODIFIED:20201124T003800Z
UID:2881-1606240800-1606244400@old.elks9.org
SUMMARY:All American Lodge - ZOOM
DESCRIPTION:AJ Ford is inviting you to a scheduled Zoom meeting. \nhttps://us02web.zoom.us/j/85010387233?pwd=RmFYQUJsMkN3WmNSQk1waUsrZjNjdz09 \nMeeting ID: 850 1038 7233\nPasscode: 574405
URL:https://old.elks9.org/event/all-american-lodge-2/
END:VEVENT
BEGIN:VEVENT
DTSTART;TZID=America/Chicago:20201124T200000
DTEND;TZID=America/Chicago:20201124T203000
DTSTAMP:20260422T232654
CREATED:20201110T025041Z
LAST-MODIFIED:20201116T231418Z
UID:2910-1606248000-1606249800@old.elks9.org
SUMMARY:QoH (8pm drawing) - Cancelled
DESCRIPTION:
URL:https://old.elks9.org/event/qoh-8pm-drawing-6/
END:VEVENT
END:VCALENDAR