BEGIN:VCALENDAR
VERSION:2.0
PRODID:-//All American St. Louis Elks Lodge #9 - ECPv6.10.2//NONSGML v1.0//EN
CALSCALE:GREGORIAN
METHOD:PUBLISH
X-ORIGINAL-URL:https://old.elks9.org
X-WR-CALDESC:Events for All American St. Louis Elks Lodge #9
REFRESH-INTERVAL;VALUE=DURATION:PT1H
X-Robots-Tag:noindex
X-PUBLISHED-TTL:PT1H
BEGIN:VTIMEZONE
TZID:America/Chicago
BEGIN:DAYLIGHT
TZOFFSETFROM:-0600
TZOFFSETTO:-0500
TZNAME:CDT
DTSTART:20200308T080000
END:DAYLIGHT
BEGIN:STANDARD
TZOFFSETFROM:-0500
TZOFFSETTO:-0600
TZNAME:CST
DTSTART:20201101T070000
END:STANDARD
END:VTIMEZONE
BEGIN:VEVENT
DTSTART;TZID=America/Chicago:20201024T140000
DTEND;TZID=America/Chicago:20201024T160000
DTSTAMP:20260423T032646
CREATED:20200902T223409Z
LAST-MODIFIED:20201003T022744Z
UID:2356-1603548000-1603555200@old.elks9.org
SUMMARY:Trunk or Treat featuring the Creve Coeur Drug Awareness Van (north parking lot)
DESCRIPTION:
URL:https://old.elks9.org/event/trunk-or-treat-featuring-the-creve-coeur-drug-awareness-van-north-parking-lot/
END:VEVENT
BEGIN:VEVENT
DTSTART;TZID=America/Chicago:20201024T180000
DTEND;TZID=America/Chicago:20201024T220000
DTSTAMP:20260423T032646
CREATED:20200909T003636Z
LAST-MODIFIED:20200916T221310Z
UID:2456-1603562400-1603576800@old.elks9.org
SUMMARY:Hall Rental - Johnson
DESCRIPTION:
URL:https://old.elks9.org/event/hall-rental-johnson/
END:VEVENT
END:VCALENDAR