BEGIN:VCALENDAR
VERSION:2.0
PRODID:-//All American St. Louis Elks Lodge #9 - ECPv6.10.2//NONSGML v1.0//EN
CALSCALE:GREGORIAN
METHOD:PUBLISH
X-WR-CALNAME:All American St. Louis Elks Lodge #9
X-ORIGINAL-URL:https://old.elks9.org
X-WR-CALDESC:Events for All American St. Louis Elks Lodge #9
REFRESH-INTERVAL;VALUE=DURATION:PT1H
X-Robots-Tag:noindex
X-PUBLISHED-TTL:PT1H
BEGIN:VTIMEZONE
TZID:America/Chicago
BEGIN:DAYLIGHT
TZOFFSETFROM:-0600
TZOFFSETTO:-0500
TZNAME:CDT
DTSTART:20200308T080000
END:DAYLIGHT
BEGIN:STANDARD
TZOFFSETFROM:-0500
TZOFFSETTO:-0600
TZNAME:CST
DTSTART:20201101T070000
END:STANDARD
END:VTIMEZONE
BEGIN:VEVENT
DTSTART;TZID=America/Chicago:20201020T180000
DTEND;TZID=America/Chicago:20201020T190000
DTSTAMP:20260423T032613
CREATED:20200714T013638Z
LAST-MODIFIED:20200916T221042Z
UID:1219-1603216800-1603220400@old.elks9.org
SUMMARY:P.R. Committee
DESCRIPTION:
URL:https://old.elks9.org/event/p-r-committee-6/
END:VEVENT
BEGIN:VEVENT
DTSTART;TZID=America/Chicago:20201020T183000
DTEND;TZID=America/Chicago:20201020T193000
DTSTAMP:20260423T032613
CREATED:20201019T184903Z
LAST-MODIFIED:20201019T184957Z
UID:2824-1603218600-1603222200@old.elks9.org
SUMMARY:House Committee Meeting
DESCRIPTION:
URL:https://old.elks9.org/event/house-committee-meeting-rescheduled/
END:VEVENT
END:VCALENDAR